Workbook

Sheet Overview
A2: Class Name: | B2: Columbus
A3: Category: | B3: interstellar (sublight) explorer
A5: Size: | B5: 3 | D5: Maximum Tgt SU calculator
A6: Mass (mt): | B6: 8600 | D6: A: Lower-end Mass | E6: 31
A7: Length (m): | B7: 121 | D7: B: Target Mass | E7: =B6 -> 8600
A8: Beam (m): | B8: 35.9 | D8: C: Upper-end Mass | E8: 60000
A9: Height (m): | B9: 35.9 | D9: D: SU at lower-end mass | E9: 600
A10: Maximum Tgt SU: | B10: =E9+(E10-E9)*(E7-E6)/(E8-E6) -> 657.1562 | D10: E: SU at upper-end mass | E10: 1000
A11: Utilized SU: | B11: =SUM(B17:B23) -> 656.85
A12: Remaining SU: | B12: =SUM(B10-B11) -> 0.30619737
A13: SU Mass (mt): | B13: =B6/B10 -> 13.086691 | C13: =B6/B10 -> 13.086691
B14: rnd | C14: unrnd
B16: SUs | C16: Req PWR | D16: Opt PWR | E16: PWR Gen
A17: Hull | B17: =Hull!A7 -> 33 | C17: =Hull!A11 -> 0 | D17: =Hull!A13 -> 0
A18: Personnel Systems | B18: ='Personnel Systems'!A7 -> 425.6 | C18: ='Personnel Systems'!A11 -> 8 | D18: ='Personnel Systems'!A13 -> 6
A19: Propulsion Systems | B19: ='Propulsion Systems'!A7 -> 9.5 | C19: ='Propulsion Systems'!A11 -> 8 | D19: ='Propulsion Systems'!A13 -> 1
A20: Power Systems | B20: ='Power Systems'!A7 -> 122 | C20: ='Power Systems'!A11 -> 0 | D20: ='Power Systems'!A13 -> 0 | E20: ='Power Systems'!A15 -> 29
A21: Operations Systems | B21: ='Operations Systems'!A7 -> 60.75 | C21: ='Operations Systems'!A11 -> 8 | D21: ='Operations Systems'!A13 -> 14
A22: Tactical Systems | B22: ='Tactical Systems'!E62 -> 0 | C22: ='Tactical Systems'!A11 -> 0 | D22: ='Tactical Systems'!B12 -> 0
A23: Auxiliary Spacecraft Systems | B23: ='Auxiliary Spacecraft Systems'!A7 -> 6 | C23: ='Auxiliary Spacecraft Systems'!A11 -> 0 | D23: ='Auxiliary Spacecraft Systems'!A13 -> 0
A24: Totals | B24: =SUM(B17:B23) -> 656.85 | C24: =SUM(C17:C23) -> 24 | D24: =SUM(D17:D23) -> 21 | E24: =SUM(E17:E23) -> 29

Sheet Hull
A1: Hull Systems
F2: SU
A3: =Overview!B2 -> Columbus | C3: Hull
A4: Vessel Size | C4: Outer | F4: 12
A5: =Overview!B5 -> 3 | C5: Inner | F5: 12
A6: Total SU
A7: =SUM(F4:F15) -> 33 | C7: Resistance
C8: Outer Hull | D8: Total | E8: =SUM(E9,E10) -> 6 | F8: 6
D9: Free Points: | E9: 2
A10: Req PWR | D10: Add. Points: | E10: 4
C11: Inner Hull | D11: Total | E11: =SUM(E12,E13) -> 4 | F11: 3
A12: Opt PWR | D12: Free Points: | E12: 2
D13: Add. Points: | E13: 2
C15: Structural Integrity Field | F15: n/a

Sheet Personnel Systems
A1: Personnel Systems
F2: PWR | G2: SU
A3: =Overview!B2 -> Columbus | C3: Crew | E3: 40
A4: Vessel Size
A5: =Overview!B5 -> 3 | C5: Crew Quarters
A6: Total SU | C6: Barracks
A7: =SUM(G6:G36) -> 425.6 | C7: Spartan | E7: 35 | G7: 2
C8: Basic
C9: Expanded | E9: 5 | G9: 1
A10: Req PWR | C10: Luxury
A11: =SUM(F15,F16,F18,F25,F32) -> 8 | C11: Unusual
A12: Opt PWR | C12: Cryogenic | E12: 40 | G12: 1
A13: =SUM(F22,F23,F27,F30) -> 6
C14: Environmental Systems
C15: Basic Life Support | F15: 4 | G15: 12
C16: Reserve Life Support | F16: 2 | G16: 6
C17: Emergency Life Support | E17: 18 emergency shelters | G17: 6
C18: Gravity | E18: n/a
C19: Consumables | E19: 4 years (fully active crew) | G19: 27.6
C21: Replicator Systems
C22: Food Processor System | E22: food stores | F22: 0 | G22: 2
C23: Industrial Fabrication Units | E23: n/a | F23: 0
C25: Medical Facilities | E25: Rating: 1 (10%) | F25: 1 | G25: 5
C27: Recreation Facilities | E27: Rating: 3 | F27: 6 | G27: 18
E28: 1 gym, 1 small lounge
C30: Personnel Transport | E30: Jefferies tubes | F30: 0 | G30: 1
C32: Fire Suppression | F32: 1 | G32: 3
C34: Cargo | E34: 4463.69 mt | G34: 341
C36: Escape Pods | E36: n/a

Sheet Propulsion Systems
A1: Propulsion Systems
F2: PWR | G2: SU
A3: =Overview!B2 -> Columbus | C3: Impulse Engine | E3: Type I (fusion-powered) (0.12c / 0.23c) | F3: 6 | G3: 5
A4: Vessel Size | C4: Location: aft
A5: =Overview!B5 -> 3 | C5: magnetohydrodynamic drive (MHD)
A6: Total SU
A7: =SUM(G3,G7,G9) -> 9.5 | C7: Reaction Control System | E7: (0.025c) | F7: 2 | G7: 3
C9: Auxiliary Reaction Control System | E9: (0.013c) | F9: 1 | G9: 1.5
A10: Req PWR
A11: =SUM(F3,F7) -> 8
A12: Opt PWR
A13: =SUM(F9) -> 1

Sheet Power Systems
A1: Power Systems
F2: PWR | G2: SU
A3: =Overview!B2 -> Columbus | C3: Impulse Engine | E3: 1 Type I fusion reactor | F3: 6
A4: Vessel Size
A5: =Overview!B5 -> 3 | C5: Auxiliary Power | E5: 6 fission reactors | F5: 18 | G5: 90
A6: Total SU
A7: =SUM(G5,G7,G9,G12) -> 122 | C7: Emergency Power | E7: fusion reactor | F7: 5 | G7: 5
A9: Power Summary | C9: Battery Power Systems | G9: 9
A10: Req PWR | C10: Source: Emergency Life Support one-time drain | F10: 18
A12: Opt PWR | C12: Power Distribution System | E12: Standard Power flow, +30 Power transfer | G12: 18
A14: PWR Gen | C14: Standard Usable Power | E14: =SUM(F3,F5) -> 24
A15: =SUM(F3,F5,F7) -> 29
A16: Drain Gen
A17: =SUM(F10) -> 18

Sheet Operations Systems
A1: Operations Systems
F2: PWR | G2: SU
A3: =Overview!B2 -> Columbus | C3: Bridge Systems | E3: bow module | G3: 6
A4: Vessel Size | C4: 21st century flight deck
A5: =Overview!B5 -> 3
A6: Total SU | C6: Computers
A7: =SUM(G3:G50) -> 60.75 | C7: Core 1 | E7: flight-deck module | F7: 1 | G7: 1.5
C8: Core 2 | E8: auxiliary control space | F8: 1 | G8: 1.5
A9: Power Summary | C9: Uprating | E9: n/a
A10: Req PWR | C10: Optical Data Network (ODN) | E10: fiberglass laser optics | G10: 9
A11: =SUM(F7,F9,F12,F15,F22,F26,F34,F37,F39) -> 8
A12: Opt PWR | C12: Navigational Deflector | E12: n/a
A13: =SUM(F8,F29,F32,F35,F38,F42,F46,F48) -> 14
C14: Sensor Systems
C15: Long-Range Sensors | F15: 1 | G15: 1
D16: Range Package | E16: pre-warp (72 / 58 / 17 / -)
D17: High Resolution | E17: n/a
D18: Low Resolution | E18: 407,000 km (122k / 123k-244k / 245k-366k / 367k-407k)
D19: Gain package | E19: standard (+0)
D20: Strength package | E20: Class 1 (Strength +0 / +0 / +3 / +3)
D21: Coverage | E21: standard
C22: Lateral Sensors | F22: 1 | G22: 6
D23: Gain package | E23: standard (+0)
D24: Strength package | E24: Class 0 (Strength +0)
D25: Coverage | E25: standard
C26: Navigational Sensors | F26: 1 | G26: 6
D27: Gain package | E27: standard (+0)
D28: Strength package | E28: Class 0 (Strength +0)
C29: Probes | E29: 15 Class I | F29: 5 | G29: 1.5
C31: Flight Control Systems
C32: Autopilot | E32: 31% (Rating: 0; Upgrade: 2); 3 lys auto-routing | F32: 1 | G32: 4
C33: Navigational Computer
D34: Main | E34: Class 1 (+0) | F34: 0 | G34: 1
D35: Backups | E35: 1 | F35: 0 | G35: 0
C36: Inertial Damping Field
D37: Main | E37: Strength: 3; Number: 1 | F37: 3 | G37: 6
D38: Backups | E38: Strength: 2; Number: 1 | F38: 2 | G38: 1.5
C39: Attitude Control | F39: 1 | G39: 0.75
C41: Communication Systems
C42: Interplanetary Radio (Type I) | F42: 2 | G42: 1
...

Sheet Tactical Systems
A1: Tactical Systems | B1: Component | E1: SU
B2: Weapon Control Rooms
A3: =Overview!B2 -> Columbus | B3: Beam Weapons
A4: Vessel Size | C4: Lasers
A5: =Overview!B5 -> 3 | C5: Plasma Cannons
A6: Total SU | C6: Phase Cannons
A7: =SUM(G3:G50) -> 0 | C7: Phasers
C8: Standard Phasers
A9: Power Summary | C9: Channeled Phasers
A10: Req PWR | C10: Pulse Beam Phaser Cannons
A11: =SUM(F7,F9,F12,F15,F22,F26,F34,F37,F39) -> 0 | C11: ACB Jacketing
A12: Opt PWR | C12: Disrupters
A13: =SUM(F8,F29,F32,F35,F38,F42,F46,F48) -> 0 | C13: Cardassian Spiral-Wave Disrupter
C14: Tholian Gravitic Beam
C15: Borg Energy Beam
C16: Borg Cutting Beam
C17: Borg Feedback Pulse
C18: Borg Shield Draining Weapon
C19: Breen Energy Drain Weapon
C20: Dominion Polaron Beam
C21: Isolytic Weapon
B22: Firing Arcs (Beam Weapons)
B23: Firing Modes (Beam Weapons)
B24: Missile Weapons | C24: Launchers | D24: n/a
C25: Targeting System | D25: n/a
C26: Chemical Missiles
C27: Nuclear Missiles
C28: Spatial Torpedoes
C29: Romulan Plasma Torpedoes
C30: Photon / Quantum Torpedoes
C31: Romulan Singularity Torpedoes
C32: Stratospheric Torpedoes
C33: Tricobalt Devices
C34: Gravimetric Torpedoes
B35: Microtorpedo Launcher
B36: Mines
C37: Antimatter Mines
C38: Cloaked Mines
C39: Gravitic Mines
C40: Self-Replicating Mines
...

Sheet Auxiliary Spacecraft Systems
A1: Auxiliary Spacecraft Systems
F2: PWR | G2: SU
A3: =Overview!B2 -> Columbus | C3: Shuttlebays | G3: 6
A4: Vessel Size | C4: 1 atmospheric craft (Size 1)
A5: =Overview!B5 -> 3 | C5: 2 maintenance pods (Size 1)
A6: Total SU
A7: =SUM(G3:G7) -> 6 | C7: Captain's Yacht | E7: n/a
A9: Power Summary
A10: Req PWR
A12: Opt PWR
