Workbook

Sheet Overview
A2: Class Name: | B2: Defiant / Valiant
A3: Category: | B3: surveyor
A5: Size: | B5: 3 | D5: Maximum Tgt SU calculator
A6: Mass (mt): | B6: 16300 | D6: A: Lower-end Mass | E6: 31
A7: Length (m): | B7: 92.4 | D7: B: Target Mass | E7: =B6 -> 16300
A8: Beam (m): | B8: 41.1 | D8: C: Upper-end Mass | E8: 60000
A9: Height (m): | B9: 17 | D9: D: SU at lower-end mass | E9: 600
A10: Maximum Tgt SU: | B10: =E9+(E10-E9)*(E7-E6)/(E8-E6) -> 708.51607 | D10: E: SU at upper-end mass | E10: 1000
A11: Utilized Mass: | B11: =B12*ROUND(C14,2) -> 10791.69
A12: Utilized SU: | B12: =SUM(B18:B24) -> 469
A13: Remaining SU: | B13: =SUM(B10-B12) -> 239.51607
A14: SU Mass (mt): | B14: =B6/B10 -> 23.00583 | C14: =B6/B10 -> 23.00583
B15: rnd | C15: unrnd
B17: SUs | C17: Req PWR | D17: Opt PWR | E17: PWR Gen
A18: Hull | B18: =Hull!A7 -> 35 | C18: =Hull!A11 -> 2 | D18: =Hull!A13 -> 0
A19: Personnel Systems | B19: ='Personnel Systems'!A7 -> 162.5 | C19: ='Personnel Systems'!A11 -> 7 | D19: ='Personnel Systems'!A13 -> 5
A20: Propulsion Systems | B20: ='Propulsion Systems'!A7 -> 120 | C20: ='Propulsion Systems'!A11 -> 17 | D20: ='Propulsion Systems'!A13 -> 1
A21: Power Systems | B21: ='Power Systems'!A7 -> 66 | C21: ='Power Systems'!A11 -> 0 | D21: ='Power Systems'!A13 -> 0 | E21: ='Power Systems'!A15 -> 65
A22: Operations Systems | B22: ='Operations Systems'!A7 -> 53.5 | C22: ='Operations Systems'!A11 -> 23 | D22: ='Operations Systems'!A13 -> 14
A23: Tactical Systems | B23: ='Tactical Systems'!A7 -> 24 | C23: ='Tactical Systems'!A11 -> 0 | D23: ='Tactical Systems'!A13 -> 6.5
A24: Auxiliary Spacecraft Systems | B24: ='Auxiliary Spacecraft Systems'!A7 -> 8 | C24: ='Auxiliary Spacecraft Systems'!A11 -> 0 | D24: ='Auxiliary Spacecraft Systems'!A13 -> 0
A25: Totals | B25: =SUM(B18:B24) -> 469 | C25: =SUM(C18:C24) -> 49 | D25: =SUM(D18:D24) -> 26.5 | E25: =SUM(E18:E24) -> 65
A28: Costs (in RPs)
A29: Construction | B29: 140.7 | C29: based upon Utilized SUs
A30: Prototype | B30: n/a | C30: based upon Utilized SUs
A31: IMC | B31: 14.7 | C31: based upon Construction Cost & Operational Lifetime
A32: Operational Lifetime | B32: 10

Sheet Hull
A1: Hull Systems
F2: PWR | G2: SU
A3: =Overview!B2 -> Defiant / Valiant | C3: Hull
A4: Vessel Size | C4: Outer | G4: 12
A5: =Overview!B5 -> 3 | C5: Inner | G5: 12
A6: Total SU
A7: =SUM(G4:G18) -> 35 | C7: Resistance
C8: Outer Hull | D8: Total | E8: =SUM(E9,E10) -> 4 | G8: 3
D9: Free Points: | E9: 2
A10: Req PWR | D10: Add. Points: | E10: 2
A11: =SUM(F16,F18) -> 2 | C11: Inner Hull | D11: Total | E11: =SUM(E12,E13) -> 2 | G11: 0
A12: Opt PWR | D12: Free Points: | E12: 2
A13: =SUM(F17,F19) -> 0 | D13: Add. Points: | E13: 0
C15: Structural Integrity Field
C16: Main: | D16: Class A (Protection 5 / 5) | F16: 1 | G16: 5
F17: 0
C18: Backup1: | D18: Class A (Protection 3) | F18: 1 | G18: 3
F19: 0

Sheet Personnel Systems
A1: Personnel Systems
F2: PWR | G2: SU
A3: =Overview!B2 -> Defiant / Valiant | C3: Crew | E3: 30
A4: Vessel Size | D4: Officers | E4: 4
A5: =Overview!B5 -> 3 | D5: Crew | E5: 26
A6: Total SU | D6: Passengers | E6: 0
A7: =SUM(G10:G41) -> 162.5 | D7: Evacuation | E7: 0
C9: Crew Quarters
A10: Req PWR | C10: Barracks
A11: =SUM(F19,F20,F22,F30,F37) -> 7 | C11: Spartan
A12: Opt PWR | C12: Basic | E12: 6 | G12: 1
A13: =SUM(F26,F27,F32,F35) -> 5 | C13: Expanded
C14: Luxury
C15: Unusual
C16: Cryogenic | E16: 30 | G16: 1
C18: Environmental Systems
C19: Basic Life Support | E19: 30 persons | F19: 3 | G19: 12
C20: Reserve Life Support | F20: 2 | G20: 6
C21: Emergency Life Support | E21: 18 emergency shelters | G21: 6
C22: Gravity | E22: n/a
C23: Consumables | E23: 25 years | G23: 37.5
C25: Manufacturing Systems
C26: Food Processor System | E26: food stores: 20 items | F26: 0 | G26: 2
C27: Industrial Fabrication Units | E27: Mark I | F27: 1 | G27: 2
D28: 20 / 16-18 minutes
C30: Medical Facilities | E30: Rating: 1 (10%) | F30: 1 | G30: 5
C32: Recreation Facilities | E32: Rating: 2 | F32: 4 | G32: 12
E33: 1 gym, 1 small lounge
C35: Personnel Transport | E35: Jefferies tubes | F35: 0 | G35: 3
C37: Fire Suppression | F37: 1 | G37: 3
C39: Cargo | E39: 1,630 mt | G39: 71
C41: Escape Pods | E41: 8 4-person pods | G41: 1

Sheet Propulsion Systems
A1: Propulsion Systems
F2: PWR | G2: SU
A3: =Overview!B2 -> Defiant / Valiant | C3: Warp Drive
A4: Vessel Size | C4: Nacelles: Mark 1A-2.5 | E4: Mass: 15.81% | F4: 13 | G4: 112
A5: =Overview!B5 -> 3 | D5: Speed: 1.02 / 1.06 / 2.5
A6: Total SU | D6: PIS: Class 0 | E6: 10-30 minutes max speed | G6: 1
A7: =SUM(G4:G14) -> 120
C8: Impulse Engine(s)
D9: Type I main impulse engine | E9: (.1c / .2c: 2 hours) | F9: 2 | G9: 2
A10: Req PWR | D10: Location: stern
A11: =SUM(F4,F9,F12) -> 17
A12: Opt PWR | C12: Reaction Control System | E12: (0.025c) | F12: 2 | G12: 3
A13: =SUM(F14) -> 1
C14: Auxiliary Reaction Control System | E14: (0.013c) | F14: 1 | G14: 2

Sheet Power Systems
A1: Power Systems
F2: SU | G2: PWR
A3: =Overview!B2 -> Defiant / Valiant | C3: Warp Drive | E3: Mark I | F3: 23 | G3: 49
A4: Vessel Size | D4: Location: | E4: engineering hull
A5: =Overview!B5 -> 3
A6: Total SU
A7: =SUM(F7:F19) -> 66 | C7: Impulse Engine | E7: 1x Type I fusion reactor | G7: 6
A9: Power Summary | C9: Auxiliary Power | E9: 2x fusion reactors | F9: 6 | G9: 10
A10: Req PWR
C11: Emergency Power | E11: Type A | F11: 25 | G11: 25
A12: Opt PWR
C13: Battery Power Systems | F13: 12
A14: PWR Gen | C14: Source: Emergency Life Support one-time drain | G14: 24
A15: =SUM(G3,G7,G9) -> 65
A16: Drain Gen | C16: Power Distribution System | E16: base + 30 extra power | F16: 23
A17: =SUM(G14) -> 24
C18: Standard Usable Power | G18: =SUM(G3,G7,G9) -> 65

Sheet Operations Systems
A1: Operations Systems
F2: PWR | G2: SU
A3: =Overview!B2 -> Defiant / Valiant | C3: Bridge Systems
A4: Vessel Size | C4: 21st century flight deck | G4: 6
A5: =Overview!B5 -> 3 | C5: Auxiliary Control Room | E5: n/a
A6: Total SU
A7: =SUM(G4:G56) -> 53.5 | C7: Computers | E7: silicon tech
C8: Core 1 | E8: flight-deck module | F8: 1 | G8: 1.5
A9: Power Summary | C9: Core 2 | E9: auxiliary control space | F9: 1 | G9: 1.5
A10: Req PWR | C10: Uprating | E10: n/a
A11: =SUM(F8,F10,F13,F16,F23,F27,F35,F38,F40) -> 23 | C11: Optical Data Network (ODN) | E11: fiberglass laser optics | G11: 0
A12: Opt PWR
A13: =SUM(F9,F30,F33,F36,F39,F43,F47,F50,F54) -> 14 | C13: Navigational Deflector | E13: n/a
C15: Sensor Systems
C16: Long-Range Sensors | F16: 5 | G16: 1
D17: Range Package | E17: Mark 0 (92 / 83 / 42 / 8)
D18: High Resolution | E18: 1 ly (0.3 / 0.4-0.6 / 0.7-0.9 / 0.91-1.0)
D19: Low Resolution | E19: 3 lys (0.5 / 0.6-1.0 / 1.1-2.0 / 2.1-3.0)
D20: Gain package | E20: standard (+0)
D21: Strength package | E21: Class 1 (Strength +0 / +0 / +3 / +3) | G21: 2
D22: Coverage | E22: standard (36,200 excluded) | G22: 0
C23: Lateral Sensors | F23: 5 | G23: 1
D24: Gain package | E24: standard (+0)
D25: Strength package | E25: Class 0 (Strength +0)
D26: Coverage | E26: standard (36,200 excluded)
C27: Navigational Sensors | F27: 5 | G27: 1
D28: Gain package | E28: standard (+0)
D29: Strength package | E29: Class 0 (Strength +0)
C30: Probes | F30: 5 | G30: 2
C32: Flight Control Systems
C33: Autopilot | E33: 35% (Rating: 1; Upgrade: 0); 3 lys auto-routing | F33: 1 | G33: 6
C34: Navigational Computer
D35: Main | E35: Class 1 (+0) | F35: 0 | G35: 1
D36: Backups | E36: 1 | F36: 0 | G36: 0
C37: Inertial Damping Field
D38: Main | E38: Number: 2 | F38: 6 | G38: 12
D39: Backups | E39: Number: 1 | F39: 2 | G39: 1.5
C40: Attitude Control | F40: 1 | G40: 1
C42: Communication Systems
C43: Interplanetary Radio: Type II | F43: 2 | G43: 2
...

Sheet Tactical Systems
A1: Tactical Systems
F2: PWR | G2: SU
A3: =Overview!B2 -> Defiant / Valiant | C3: Weapon Control Rooms
A4: Vessel Size | C4: Laser Control Room | G4: 3
A5: =Overview!B5 -> 3 | C5: Missile Control Room | G5: 3
A6: Total SU
A7: =SUM(G4:G44) -> 24 | C7: Beam Weapons | E7: n/a
C8: Port Laser Emitter | F8: 2.75 | G8: 3
A9: Power Summary | D9: Type: | E9: Sorac 1.5 Plus class
A10: Req PWR | D10: Damage: | E10: 30
D11: Number of Emitters: | E11: 1
A12: Opt PWR | D12: Shots per Round: | E12: 1
A13: =SUM(F8,F19,F31,F41) -> 6.5 | D13: Accuracy: | E13: 72 / 58 / 28 / 3
D14: Range: | E14: 4 / 5,000 / 15,000 / 30,000
D15: Location: | E15: port habitat hull
D16: Firing Arc: | E16: 120 degrees | G16: 0
D17: Firing Modes: | E17: standard | G17: 0
C19: Starboard Laser Emitter | F19: 2.75 | G19: 3
D20: Type: | E20: Sorac 1.5 Plus class
D21: Damage: | E21: 30
D22: Number of Emitters: | E22: 1
D23: Shots per Round: | E23: 1
D24: Accuracy: | E24: 72 / 58 / 28 / 3
D25: Range: | E25: 4 / 5,000 / 15,000 / 30,000
D26: Location: | E26: starboard habitat hull
D27: Firing Arc: | E27: 120 degrees | G27: 0
D28: Firing Modes: | E28: standard | G28: 0
C30: Missile Weapons
C31: Ventral Missile Launcher | F31: 1 | G31: 6
D32: Standard Load: | E32: Mk V fision missile (150 Damage)
D33: Spread: | E33: 1
D34: Range: | E34: 6 / 300 / 2,500 / 8,000
D35: Targeting System: | E35: 58 / 42 / 17 / - | G35: 1
D36: Location: | E36: ventral habitat hull
D37: Firing Arc: | E37: 180 degrees, ventral | G37: 0
C39: Missiles Carried: | E39: 6 | G39: 2
C41: Threat Assessment/Tracking/Targeting System | F41: 0 | G41: 3
C42: Class Zero | E42: Strength: 6; Bonus: +0%
C44: Hull Plating
E45: n/a

Sheet Auxiliary Spacecraft Systems
A1: Auxiliary Spacecraft Systems
G2: SU | H2: PWR
A3: =Overview!B2 -> Defiant / Valiant | C3: Shuttlebays | G3: 8
A4: Vessel Size | C4: 4x maintenance pods (Size 1)
A5: =Overview!B5 -> 3
A6: Total SU | C6: Captain's Yacht | E6: n/a
A7: =SUM(G3:G6) -> 8
A9: Power Summary
A10: Req PWR
A12: Opt PWR
