Workbook

Sheet Overview
A2: Class Name: | B2: Defiant / Valiant
A3: Category: | B3: Surveyor
A5: Size: | B5: 3 | D5: Maximum Tgt SU calculator
A6: Mass (mt): | B6: 16300 | D6: A: Lower-end Mass | E6: 31
A7: Length (m): | B7: 92.4 | D7: B: Target Mass | E7: =B6 -> 16300
A8: Beam (m): | B8: 41.1 | D8: C: Upper-end Mass | E8: 60000
A9: Height (m): | B9: 17 | D9: D: SU at lower-end mass | E9: 600
A10: Maximum Tgt SU: | B10: =E9+(E10-E9)*(E7-E6)/(E8-E6) -> 708.51607 | D10: E: SU at upper-end mass | E10: 1000
A11: Utilized SU: | B11: =SUM(B17:B23) -> 682.25
A12: Remaining SU: | B12: =SUM(B10-B11) -> 26.266067
A13: SU Mass (mt): | B13: =B6/B10 -> 23.00583 | C13: =B6/B10 -> 23.00583
B14: rnd | C14: unrnd
B16: SUs
A17: Hull | B17: =Hull!F22 -> 34.5
A18: Personnel Systems | B18: ='Personnel Systems'!E35 -> 465
A19: Propulsion Systems | B19: ='Propulsion Systems'!F25 -> 4
A20: Power Systems | B20: ='Power Systems'!E12 -> 72
A21: Operations Systems | B21: ='Operations Systems'!E63 -> 64.75
A22: Tactical Systems | B22: ='Tactical Systems'!E62 -> 34
A23: Auxiliary Spacecraft Systems | B23: ='Auxiliary Spacecraft Systems'!E6 -> 8

Sheet Hull
A1: Hull | B1: Component | F1: SU
B2: Outer Hull and Primary Skeletal Structure | F2: 12
B3: Inner Hull and Secondary Skeletal Structure | F3: 12
B4: Resistance | D4: Points | E4: SU | F4: =E8 -> 3
C5: Base | D5: 4 | E5: free
C6: Add. Inner | D6: 0 | E6: 0
C7: Add. Outer | D7: 2 | E7: 3
C8: Total | D8: =D5+D6+D7 -> 6 | E8: =E6+E7 -> 3
B9: Ablative Armor
B10: Structural Integrity Field | D10: Normal Protection | E10: Max Protection | F10: 5
C11: Class A | D11: 5 | E11: 5
B12: Backup SIF | D12: Normal Protection | E12: Max Protection | F12: 2.5
C13: Backup | D13: 3 | E13: 3
B14: Atmospheric Capability
B15: Planetfall Capability
B16: Energy Sheath
B17: Ramming Hull
B18: Sensor-Reflective Hull
B19: Romulan Cloak-Enhancing Hull
B22: Total | F22: =SUM(F2:F21) -> 34.5

Sheet Personnel Systems
A1: Personnel Systems | B1: Component | E1: SU
B2: Crew | D2: 30
C3: Officers | D3: 4
C4: Enlisted | D4: 26
B5: Passengers | D5: 0
B6: Evacuation | D6: 0
B7: Crew Quarters
C8: Barracks | D8: 1 | E8: 1
C9: Spartan | D9: 1 | E9: 1
C10: Basic
C11: Expanded
C12: Luxury
C13: Unusual
C14: Cryogenic | D14: 1 | E14: 1
B15: Basic Life Support | E15: 12
B16: Reserve Life Support | E16: 6
B17: Emergency Life Support | E17: 6
C18: Additional Shelters
B19: Gravity
B20: Consumables | C20: Years | D20: 2 | E20: 6
B21: Manufacturing Systems
C22: Food Processor System | D22: Food stores | E22: 2
C23: Industrial Fabrication Units | D23: Mark I | E23: 2
C24: Replicator Systems
B25: Medical Systems
C26: Medical Facilities & Systems | D26: Rating 1, Skill 10 | E26: 5
C27: Emergency Medical Holograms
C28: Recreation Facilities | D28: Rating 1 | E28: 6
C29: Personnel Transportation Systems | E29: 1
C30: Fire Suppression System | E30: 3
C31: Cargo Holds | E31: 413
C32: Escape Pods
D35: SU | E35: =SUM(E2:E34) -> 465

Sheet Propulsion Systems
A1: Propulsion Systems | B1: Component | F1: SU
B2: Warp Propulsion System | D2: Tech | E2: Warp Speeds
C3: Nacelles | D3: Mark 1.1 | E3: 2.5/2.6/2.7 | F3: 4
C4: Warp Drive Systems Upratings/Downgrades | E4: 1 downgrade "package 2" for each category | F4: -6
C5: Plasma Injector System | D5: Class 0 | F5: 1
C6: Coaxial Warp Drive
C7: Quantum Slipstream Drive
C8: Soliton Wave Propulsion
C9: Transwarp Drive
C10: One-Way Warp Propulsion
C11: Ion Propulsion (Advanced)
C12: Gravity Induction Drive
B13: Impulse Propulsion System | E13: Impulse Speeds
C14: Chemical Propulsion Systems
C15: Fission Propulsion Systems
C16: Fusion Propulsion Systems/Atomic Piles
C17: Main Impulse Engines | D17: Type 1 | E17: 0.1c/0.2c | F17: 2
C18: Acceleration Upratings
C19: Reaction Control System | D19: primary | F19: 3
D20: auxiliary
C21: Impulse Thrusters
B22: Romulan Nullifier Core
E25: SU | F25: =SUM(F2:F19) -> 4

Sheet Power Systems
A1: Power Systems | B1: Component | E1: SU
B2: Warp Engines | C2: Type | D2: Mark I | E2: 20
B3: Solar Power Systems
B4: Auxiliary Power Systems | C4: Reactors | D4: Number
C5: Fusion | D5: 1 | E5: 3
B6: Battery Power Systems | E6: 9
B7: Emergency Power Systems | C7: System | D7: Type A | E7: 25
B8: Electroplasma Systems | E8: 15
B9: Isomagnetic EPS Conduits
D12: SU | E12: =SUM(E2:E10) -> 72

Sheet Operations Systems
A1: Operations Systems | B1: Component | E1: SU
B2: Bridge Systems | D2: 21st century | E2: 6
B3: Auxiliary Control Room / Battle Bridge
B4: Separation Systems
C5: Saucer Separation | D5: non-reattaching | E5: 1.5
C6: Nacelle Separation
C7: Multivector Assault Mode
C8: Detachable Warhead
C9: Klingon Detachable Forward Module
C10: Klingon Detachable Bridge Module
C11: Taurhai Detachable Segments
B12: Computers | D12: silicon tech, 2 cores | E12: 3
B13: Computer Upratings
B14: Optical Data Networks | D14: fiberglass laser optics | E14: 9
B15: Bio-neural Computer System
B16: Navigational Deflector
B17: Sensor Systems
C18: Long-Range Sensors | D18: Mark 0 | E18: 1
C19: Long-Range Sensors Gain | D19: Standard | E19: 0
C20: Long-Range Sensors Strength | D20: Class 1 | E20: 2
C21: Lateral Sensors | E21: 6
C22: Lateral Sensors Strength | D22: Class 0 | E22: 1
C23: Lateral Sensors Gain | D23: Standard | E23: 0
C24: Navigational Sensors | E24: 6
C25: Navigational Sensors Strength | D25: Class 0 | E25: 1
C26: Navigational Sensors Gain | D26: Standard | E26: 0
B27: Probes | D27: 18 Class 1 | E27: 2
B28: Flight Control Systems
C29: Autopilot | D29: Control: 1; Coord: 1 | E29: 4
C30: Navigational Computer | D30: Class 1 | E30: 1
C31: Navigational Backup | D31: equipped | E31: 0
B32: Inertial Stabilizer | D32: 1 equipped; rating 2 | E32: 6
C33: Inertial Stabilizer Backup | D33: 1 equipped; rating 1 | E33: 1.5
B34: Attitude Control | E34: 0.75
B35: Neurogenic Interface
B36: Communication Systems
C37: Interplanetary radio | D37: Type II | E37: 2
C38: Basic uprating | D38: n/a
C39: Security uprating | D39: n/a
C40: Emergency Communications System | E40: 1
C41: Holocommunications System
B42: Tractor Beams
C43: Standard Tractor Beams
C44: Multiphase Tractor Beam
B45: Transporter Systems
C46: Standard Transporter Systems
C47: Borg and Dominion Transporters
C48: Folded Space Transporters
C49: Multidimensional Transporters
C50: Subspace Transporters
C51: Temporal Transporters
B52: Cloaking Devices
B53: Hull Holoemitters
B54: Phase Cloak
B55: Security Systems | D55: n/a
B56: Anti-Intruder System
B57: Internal Force Fields
B58: Science Systems | D58: Rating: 1 | E58: 8
D59: Labs: 1 | E59: 2
B60: Specialized Science Systems
D63: SU | E63: =SUM(E2:E62) -> 64.75

Sheet Tactical Systems
A1: Tactical Systems | B1: Component | E1: SU
B2: Weapon Control Rooms
B3: Beam Weapons
C4: Lasers | D4: 2x Sorac 1.5 Class | E4: 6
C5: Plasma Cannons
C6: Phase Cannons
C7: Phasers
C8: Standard Phasers
C9: Channeled Phasers
C10: Pulse Beam Phaser Cannons
C11: ACB Jacketing
C12: Disrupters
C13: Cardassian Spiral-Wave Disrupter
C14: Tholian Gravitic Beam
C15: Borg Energy Beam
C16: Borg Cutting Beam
... C21: Isolytic Weapon
B22: Firing Arcs (Beam Weapons) | D22: up to 180 | E22: 0
B23: Firing Modes (Beam Weapons) | D23: standard | E23: 0
B24: Missile Weapons | C24: Launchers | D24: 1x tube | E24: 5
C25: Targeting System | D25: n/a
C26: Chemical Missiles
C27: Nuclear Missiles | D27: 6x Mark V missiles | E27: 8
C28: Spatial Torpedoes
C29: Romulan Plasma Torpedoes
C30: Photon / Quantum Torpedoes
C31: Romulan Singularity Torpedoes
C32: Stratospheric Torpedoes
C33: Tricobalt Devices
C34: Gravimetric Torpedoes
B35: Microtorpedo Launcher
B36: Mines
C37: Antimatter Mines
C38: Cloaked Mines
C39: Gravitic Mines
C40: Self-Replicating Mines
C41: Spatial and Subspace Charges
B42: Tholian Web
B43: Threat Assessment/Tracking/Targeting System | D43: Class Zero | E43: 3
B44: Hull Plating | D44: Type II: Rating 8 | E44: 3
B45: Hull Polarization
B46: Deflector Shields
C47: Shield Generators
C48: Shield Grids
C49: Max Shield Protection
C50: Distortion Amplifiers
C51: Recharging Systems
B52: Backup Shield Generators
B53: Multiphasic Shields
B54: Multi-Spectral Shields
B55: Regenerative Force Fields
B56: Covariant Shields
B57: Auto-destruct System | E57: 3
B58: Klingon Targeting Periscope
B59: Bead Dispensers | E59: 6
D62: SU | E62: =SUM(E2:E61) -> 34

Sheet Auxiliary Spacecraft Systems
A1: Auxiliary Spacecraft Systems | B1: Component | E1: SU
B2: Shuttlebays | E2: 8
B3: Captain's Yacht
D6: SU | E6: =SUM(E2:E5) -> 8
