Workbook

Sheet Overview (Flight I)
A2: Class Name: | B2: Liberty | C2: (Flight I)
A3: Category: | B3: (sublight) system defense cruiser
A5: Size: | B5: 4 | D5: Maximum Tgt SU calculator
A6: Mass (mt): | B6: 26300 | D6: A: Lower-end Mass | E6: 60001
A7: Length (m): | B7: 154 | D7: B: Target Mass | E7: =B6 -> 26300
A8: Beam (m): | B8: 75.4 | D8: C: Upper-end Mass | E8: 200000
A9: Height (m): | B9: 75.4 | D9: D: SU at lower-end mass | E9: 800
A10: Maximum Tgt SU: | B10: =E9+(E10-E9)*(E7-E6)/(E8-E6) -> 679.63843 | D10: E: SU at upper-end mass | E10: 1300
A11: Utilized Mass: | B11: =B12*ROUND(C14,2) -> 17802
A12: Utilized SU: | B12: =SUM(B18:B24) -> 460
A13: Remaining SU: | B13: =SUM(B10-B12) -> 219.63843
A14: SU Mass (mt): | B14: =B6/B10 -> 38.697047 | C14: =B6/B10 -> 38.697047
B15: rnd | C15: unrnd
B17: SUs | C17: Req PWR | D17: Opt PWR | E17: PWR Gen
A18: Hull | B18: =Hull!A7 -> 44 | C18: =Hull!A11 -> 0 | D18: =Hull!A13 -> 0
A19: Personnel Systems | B19: ='Personnel Systems'!A7 -> 117 | C19: ='Personnel Systems'!A11 -> 12 | D19: ='Personnel Systems'!A13 -> 11
A20: Propulsion Systems | B20: ='Propulsion Systems'!A7 -> 36 | C20: ='Propulsion Systems'!A11 -> 10 | D20: ='Propulsion Systems'!A13 -> 1
A21: Power Systems | B21: ='Power Systems'!A7 -> 99 | C21: ='Power Systems'!A11 -> 0 | D21: ='Power Systems'!A13 -> 0 | E21: ='Power Systems'!A15 -> 115
A22: Operations Systems | B22: ='Operations Systems'!A7 -> 65 | C22: ='Operations Systems'!A11 -> 17 | D22: ='Operations Systems'!A13 -> 15
A23: Tactical Systems | B23: ='Tactical Systems'!A7 -> 93 | C23: ='Tactical Systems'!A11 -> 0 | D23: ='Tactical Systems'!A13 -> 40
A24: Auxiliary Spacecraft Systems | B24: ='Auxiliary Spacecraft Systems'!A7 -> 6 | C24: ='Auxiliary Spacecraft Systems'!A11 -> 0 | D24: ='Auxiliary Spacecraft Systems'!A13 -> 0
A25: Totals | B25: =SUM(B18:B24) -> 460 | C25: =SUM(C18:C24) -> 39 | D25: =SUM(D18:D24) -> 67 | E25: =SUM(E18:E24) -> 115
A28: Costs (in RPs)
A29: Construction | B29: 184 | C29: based upon Utilized SUs
A30: Prototype | B30: 368 | C30: based upon Utilized SUs
A31: IMC | B31: 15.33 | C31: based upon Construction Cost & Operational Lifetime
A32: Operational Lifetime | B32: 12 years

Sheet Hull
A1: Hull Systems
F2: SU
A3: ='Overview (Flight I)'!B2 -> Liberty | C3: Hull
A4: Vessel Size | C4: Outer | F4: 16
A5: ='Overview (Flight I)'!B5 -> 4 | C5: Inner | F5: 16
A6: Total SU
A7: =SUM(F4:F15) -> 44 | C7: Resistance
C8: Outer Hull | D8: Total | E8: =SUM(E9,E10) -> 6 | F8: 6
D9: Free Points: | E9: 2
A10: Req PWR | D10: Add. Points: | E10: 4
C11: Inner Hull | D11: Total | E11: =SUM(E12,E13) -> 6 | F11: 6
A12: Opt PWR | D12: Free Points: | E12: 2
D13: Add. Points: | E13: 4
C15: Structural Integrity Field | F15: n/a

Sheet Personnel Systems
A1: Personnel Systems
F2: PWR | G2: SU
A3: ='Overview (Flight I)'!B2 -> Liberty | C3: Crew | E3: 39
A4: Vessel Size | D4: Officers | E4: 9
A5: ='Overview (Flight I)'!B5 -> 4 | D5: Crew | E5: 30
A6: Total SU | D6: Evacuation | E6: 195
A7: =SUM(G10:G41) -> 117
C9: Crew Quarters
A10: Req PWR | C10: Barracks
A11: =SUM(F19,F20,F22,F30,F37) -> 12 | C11: Spartan | E11: 24 | G11: 2
A12: Opt PWR | C12: Basic | E12: 10 | G12: 1
A13: =SUM(F26,F27,F32,F35) -> 11 | C13: Expanded | E13: 5 | G13: 1
C14: Luxury
C15: Unusual
C16: Cryogenic
C18: Environmental Systems
C19: Basic Life Support | E19: 234 persons | F19: 6 | G19: 16
C20: Reserve Life Support | F20: 3 | G20: 8
C21: Emergency Life Support | E21: 18 emergency shelters | G21: 8
C22: Gravity | E22: n/a
C23: Consumables | E23: 1 year | G23: 6
C25: Manufacturing Systems
C26: Food Processor System | E26: food stores | F26: 0 | G26: 2
C27: Industrial Fabrication Units | E27: Mk I | F27: 1 | G27: 2
E28: 16-18m simple; 20m complex
C30: Medical Facilities | E30: Rating: 2 (15%) | F30: 2 | G30: 10
C32: Recreation Facilities | E32: Rating: 5 | F32: 10 | G32: 30
E33: 1 small rec deck, pleasant galley, 3 gyms, 3 small lounges
C35: Personnel Transport | E35: Jefferies tubes | F35: 0 | G35: 1
C37: Fire Suppression | F37: 1 | G37: 4
C39: Cargo | E39: 967.5 mt | G39: 25
C41: Escape Pods | E41: 10 4-person pods | G41: 1

Sheet Propulsion Systems
A1: Propulsion Systems
F2: PWR | G2: SU
A3: ='Overview (Flight I)'!B2 -> Liberty | C3: Impulse Engine | E3: Type VI (fusion-powered) (0.17c / 0.35c) | F3: 8 | G3: 30
A4: Vessel Size | C4: Location: aft
A5: ='Overview (Flight I)'!B5 -> 4 | C5: nuclear thermal rocket (NTR)
A6: Total SU
A7: =SUM(G3,G7,G9) -> 36 | C7: Reaction Control System | E7: (0.025c) | F7: 2 | G7: 4
C9: Auxiliary Reaction Control System | E9: (0.013c) | F9: 1 | G9: 2
A10: Req PWR
A11: =SUM(F3,F7) -> 10
A12: Opt PWR
A13: =SUM(F9) -> 1

Sheet Power Systems
A1: Power Systems
F2: SU | G2: PWR
A3: ='Overview (Flight I)'!B2 -> Liberty | C3: Impulse Engine | E3: 1x Type I fusion reactor | G3: 20
A4: Vessel Size
A5: ='Overview (Flight I)'!B5 -> 4 | C5: Auxiliary Power | E5: 14x auxiliary fusion reactors | F5: 42 | G5: 70
A6: Total SU
A7: =SUM(F5,F7,F9,F12) -> 99 | C7: Emergency Power | E7: Type A | F7: 25 | G7: 25
A9: Power Summary | C9: Battery Power Systems | F9: 12
A10: Req PWR | C10: Source: Emergency Life Support one-time drain | G10: 24
A12: Opt PWR | C12: Power Distribution System | F12: 20
A14: PWR Gen | C14: Standard Usable Power | G14: =SUM(G3,G5) -> 90
A15: =SUM(G3,G5,G7) -> 115
A16: Drain Gen
A17: =SUM(G10) -> 24

Sheet Operations Systems
A1: Operations Systems
F2: PWR | G2: SU
A3: ='Overview (Flight I)'!B2 -> Liberty | C3: Bridge Systems
A4: Vessel Size | C4: 21st century flight deck | G4: 8
A5: ='Overview (Flight I)'!B5 -> 4 | C5: Auxiliary Control Room | E5: n/a
A6: Total SU
A7: =SUM(G4:G55) -> 65 | C7: Computers | E7: silicon tech
C8: Core 1 | E8: flight-deck module | F8: 1 | G8: 2
A9: Power Summary | C9: Core 2 | E9: auxiliary control space | F9: 1 | G9: 2
A10: Req PWR | C10: Uprating | E10: n/a
A11: =SUM(F8,F10,F13,F16,F23,F27,F35,F38,F40) -> 17 | C11: Optical Data Network (ODN) | E11: fiberglass laser optics | G11: 12
A12: Opt PWR
A13: =SUM(F9,F33,F36,F39,F43,F47,F50,F53) -> 15 | C13: Navigational Deflector | E13: n/a
C15: Sensor Systems
C16: Long-Range Sensors | F16: 5 | G16: 1
D17: Range Package | E17: Mark 0 (92 / 83 / 42 / 8)
D18: High Resolution | E18: 1 ly (0.3 / 0.4-0.6 / 0.7-0.9 / 0.91-1.0)
D19: Low Resolution | E19: 3 lys (0.5 / 0.6-1.0 / 1.1-2.0 / 2.1-3.0)
D20: Gain package | E20: standard (+0)
D21: Strength package | E21: Class 1 (Strength +0 / +0 / +3 / +3)
D22: Coverage | E22: standard
C23: Lateral Sensors | F23: 5 | G23: 8
D24: Gain package | E24: standard (+0)
D25: Strength package | E25: Class 0 (Strength +0)
D26: Coverage | E26: standard
C27: Navigational Sensors | F27: 5 | G27: 8
D28: Gain package | E28: standard (+0)
D29: Strength package | E29: Class 0 (Strength +0)
C30: Probes
C32: Flight Control Systems
C33: Autopilot | E33: 35% (Rating: 1; Upgrade: 0); 3 lys auto-routing | F33: 1 | G33: 6
C34: Navigational Computer
D35: Main | E35: Class 1 (+0) | F35: 0 | G35: 1
D36: Backups | E36: 1 | F36: 0 | G36: 0
C37: Inertial Damping Field | E37: n/a
D38: Main | I38: early class: no min required number
D39: Backups
C40: Attitude Control | F40: 1 | G40: 1
C42: Communication Systems
C43: Interplanetary Radio (Type II) | F43: 2 | G43: 2
...

Sheet Tactical Systems
A1: Tactical Systems
F2: PWR | G2: SU
A3: ='Overview (Flight I)'!B2 -> Liberty | C3: Weapon Control Rooms
A4: Vessel Size | C4: Laser Control Room | G4: 4
A5: ='Overview (Flight I)'!B5 -> 4 | C5: Missile Control Room | G5: 4
A6: Total SU
A7: =SUM(G4:G102) -> 93 | C7: Beam Weapons
C8: Bow Laser Mount #1 | E8: Sorac 1.2 Plus Class | F8: 2.5 | G8: 2
A9: Power Summary | E9: Range: 4 / 10,000 / 30,000 / 100,000
A10: Req PWR | E10: Damage: 24
E11: Targeting system: Class Zero | G11: 0
A12: Opt PWR | E12: Accuracy: 58 / 42 / 17 / -
A13: =SUM(F8,F16,F24,F32,F41,F49,F59,F67,F75,F83,F93) -> 40 | E13: Firing arc: forward-to-dorsal, up to 90 degrees | G13: 0
E14: Firing modes: Standard | G14: 0
C16: Bow Laser Mount #2 | E16: Sorac 1.2 Plus Class | F16: 2.5 | G16: 2
E17: Range: 4 / 10,000 / 30,000 / 100,000
E18: Damage: 24
E19: Targeting system: Class Zero | G19: 0
E20: Accuracy: 58 / 42 / 17 / -
E21: Firing arc: forward-to-port, out to 90 degrees | G21: 0
E22: Firing modes: Standard | G22: 0
C24: Bow Laser Mount #3 | E24: Sorac 1.2 Plus Class | F24: 2.5 | G24: 2
E25: Range: 4 / 10,000 / 30,000 / 100,000
E26: Damage: 24
E27: Targeting system: Class Zero | G27: 0
E28: Accuracy: 58 / 42 / 17 / -
E29: Firing arc: forward-to-ventral, down to 90 degrees | G29: 0
E30: Firing modes: Standard | G30: 0
C32: Bow Laser Mount #4 | E32: Sorac 1.2 Plus Class | F32: 2.5 | G32: 2
E33: Range: 4 / 10,000 / 30,000 / 100,000
E34: Damage: 24
E35: Targeting system: Class Zero | G35: 0
E36: Accuracy: 58 / 42 / 17 / -
E37: Firing arc: forward-to-starboard, out to 90 degrees | G37: 0
E38: Firing modes: Standard | G38: 0
C40: Missile Weapons
C41: Dorsal Microrocket Turret | F41: 5 | G41: 0.5
D42: Standard Load: | E42: kinetic-kill microrocket (50 Damage each)
D43: Spread: | E43: 5
D44: Range: | E44: 1 / 100 / 500 / 2000
...

Sheet Auxiliary Spacecraft Systems
A1: Auxiliary Spacecraft Systems
G2: SU | H2: PWR
A3: ='Overview (Flight I)'!B2 -> Liberty | C3: Shuttlebays | G3: 6
A4: Vessel Size | C4: 3x boarding pods (Size 1)
A5: ='Overview (Flight I)'!B5 -> 4
A6: Total SU | C6: Captain's Yacht | E6: n/a
A7: =SUM(G3:G6) -> 6
A9: Power Summary
A10: Req PWR
A12: Opt PWR

Sheet Overview (Flight II)
A2: Class Name: | B2: Liberty | C2: (Flight II)
A3: Category: | B3: (sublight) system defense cruiser
A5: Size: | B5: 4 | D5: Maximum Tgt SU calculator
A6: Mass (mt): | B6: 26300 | D6: A: Lower-end Mass | E6: 60001
A7: Length (m): | B7: 154 | D7: B: Target Mass | E7: =B6 -> 26300
A8: Beam (m): | B8: 75.4 | D8: C: Upper-end Mass | E8: 200000
A9: Height (m): | B9: 75.4 | D9: D: SU at lower-end mass | E9: 800
A10: Maximum Tgt SU: | B10: =E9+(E10-E9)*(E7-E6)/(E8-E6) -> 679.63843 | D10: E: SU at upper-end mass | E10: 1300
A11: Utilized Mass: | B11: =B12*ROUND(C14,2) -> 18189
A12: Utilized SU: | B12: =SUM(B18:B24) -> 470
A13: Remaining SU: | B13: =SUM(B10-B12) -> 209.63843
A14: SU Mass (mt): | B14: =B6/B10 -> 38.697047 | C14: =B6/B10 -> 38.697047
B15: rnd | C15: unrnd
B17: SUs | C17: Req PWR | D17: Opt PWR | E17: PWR Gen
A18: Hull | B18: ='Hull (2)'!A7 -> 44 | C18: ='Hull (2)'!A11 -> 0 | D18: ='Hull (2)'!A13 -> 0
A19: Personnel Systems | B19: ='Personnel Systems (2)'!A7 -> 117 | C19: ='Personnel Systems (2)'!A11 -> 12 | D19: ='Personnel Systems (2)'!A13 -> 11
A20: Propulsion Systems | B20: ='Propulsion Systems (2)'!A7 -> 36 | C20: ='Propulsion Systems (2)'!A11 -> 10 | D20: ='Propulsion Systems (2)'!A13 -> 1
A21: Power Systems | B21: ='Power Systems (2)'!A7 -> 99 | C21: ='Power Systems (2)'!A11 -> 0 | D21: ='Power Systems (2)'!A13 -> 0 | E21: ='Power Systems (2)'!A15 -> 115
A22: Operations Systems | B22: ='Operations Systems (2)'!A7 -> 75 | C22: ='Operations Systems (2)'!A11 -> 20 | D22: ='Operations Systems (2)'!A13 -> 17
A23: Tactical Systems | B23: ='Tactical Systems (2)'!A7 -> 93 | C23: ='Tactical Systems (2)'!A11 -> 0 | D23: ='Tactical Systems (2)'!A13 -> 40
A24: Auxiliary Spacecraft Systems | B24: ='Auxiliary Spacecraft System (2)'!A7 -> 6 | C24: ='Auxiliary Spacecraft System (2)'!A11 -> 0 | D24: ='Auxiliary Spacecraft System (2)'!A13 -> 0
A25: Totals | B25: =SUM(B18:B24) -> 470 | C25: =SUM(C18:C24) -> 42 | D25: =SUM(D18:D24) -> 69 | E25: =SUM(E18:E24) -> 115
A28: Costs (in RPs)
A29: Construction | B29: 188 | C29: based upon Utilized SUs
A30: Prototype | B30: n/a | C30: based upon Utilized SUs
A31: IMC | B31: 15.67 | C31: based upon Construction Cost & Operational Lifetime
A32: Operational Lifetime | B32: 12 years

Sheet Hull (2)
A1: Hull Systems
F2: SU
A3: ='Overview (Flight II)'!B2 -> Liberty | C3: Hull
A4: Vessel Size | C4: Outer | F4: 16
A5: ='Overview (Flight II)'!B5 -> 4 | C5: Inner | F5: 16
A6: Total SU
A7: =SUM(F4:F15) -> 44 | C7: Resistance
C8: Outer Hull | D8: Total | E8: =SUM(E9,E10) -> 6 | F8: 6
D9: Free Points: | E9: 2
A10: Req PWR | D10: Add. Points: | E10: 4
C11: Inner Hull | D11: Total | E11: =SUM(E12,E13) -> 6 | F11: 6
A12: Opt PWR | D12: Free Points: | E12: 2
D13: Add. Points: | E13: 4
C15: Structural Integrity Field | F15: n/a

Sheet Personnel Systems (2)
A1: Personnel Systems
F2: PWR | G2: SU
A3: ='Overview (Flight II)'!B2 -> Liberty | C3: Crew | E3: 39
A4: Vessel Size | D4: Officers | E4: 9
A5: ='Overview (Flight II)'!B5 -> 4 | D5: Crew | E5: 30
A6: Total SU | D6: Evacuation | E6: 195
A7: =SUM(G10:G41) -> 117
C9: Crew Quarters
A10: Req PWR | C10: Barracks
A11: =SUM(F19,F20,F22,F30,F37) -> 12 | C11: Spartan | E11: 24 | G11: 2
A12: Opt PWR | C12: Basic | E12: 10 | G12: 1
A13: =SUM(F26,F27,F32,F35) -> 11 | C13: Expanded | E13: 5 | G13: 1
C14: Luxury
C15: Unusual
C16: Cryogenic
C18: Environmental Systems
C19: Basic Life Support | E19: 234 persons | F19: 6 | G19: 16
C20: Reserve Life Support | F20: 3 | G20: 8
C21: Emergency Life Support | E21: 18 emergency shelters | G21: 8
C22: Gravity | E22: n/a
C23: Consumables | E23: 1 year | G23: 6
C25: Manufacturing Systems
C26: Food Processor System | E26: food stores | F26: 0 | G26: 2
C27: Industrial Fabrication Units | E27: Mk I | F27: 1 | G27: 2
E28: 16-18m simple; 20m complex
C30: Medical Facilities | E30: Rating: 2 (15%) | F30: 2 | G30: 10
C32: Recreation Facilities | E32: Rating: 5 | F32: 10 | G32: 30
E33: 1 small rec deck, pleasant galley, 3 gyms, 3 small lounges
C35: Personnel Transport | E35: Jefferies tubes | F35: 0 | G35: 1
C37: Fire Suppression | F37: 1 | G37: 4
C39: Cargo | E39: 967.5 mt | G39: 25
C41: Escape Pods | E41: 10 4-person pods | G41: 1

Sheet Propulsion Systems (2)
A1: Propulsion Systems
F2: PWR | G2: SU
A3: ='Overview (Flight II)'!B2 -> Liberty | C3: Impulse Engine | E3: Type VI (fusion-powered) (0.17c / 0.35c) | F3: 8 | G3: 30
A4: Vessel Size | C4: Location: aft
A5: ='Overview (Flight II)'!B5 -> 4 | C5: nuclear thermal rocket (NTR)
A6: Total SU
A7: =SUM(G3,G7,G9) -> 36 | C7: Reaction Control System | E7: (0.025c) | F7: 2 | G7: 4
C9: Auxiliary Reaction Control System | E9: (0.013c) | F9: 1 | G9: 2
A10: Req PWR
A11: =SUM(F3,F7) -> 10
A12: Opt PWR
A13: =SUM(F9) -> 1

Sheet Power Systems (2)
A1: Power Systems
F2: SU | G2: PWR
A3: ='Overview (Flight II)'!B2 -> Liberty | C3: Impulse Engine | E3: 1x Type I fusion reactor | G3: 20
A4: Vessel Size
A5: ='Overview (Flight II)'!B5 -> 4 | C5: Auxiliary Power | E5: 14x auxiliary fusion reactors | F5: 42 | G5: 70
A6: Total SU
A7: =SUM(F5,F7,F9,F12) -> 99 | C7: Emergency Power | E7: Type A | F7: 25 | G7: 25
A9: Power Summary | C9: Battery Power Systems | F9: 12
A10: Req PWR | C10: Source: Emergency Life Support one-time drain | G10: 24
A12: Opt PWR | C12: Power Distribution System | F12: 20
A14: PWR Gen | C14: Standard Usable Power | G14: =SUM(G3,G5) -> 90
A15: =SUM(G3,G5,G7) -> 115
A16: Drain Gen
A17: =SUM(G10) -> 24

Sheet Operations Systems (2)
A1: Operations Systems
F2: PWR | G2: SU
A3: ='Overview (Flight II)'!B2 -> Liberty | C3: Bridge Systems
A4: Vessel Size | C4: 21st century flight deck | G4: 8
A5: ='Overview (Flight II)'!B5 -> 4 | C5: Auxiliary Control Room | E5: n/a
A6: Total SU
A7: =SUM(G4:G55) -> 75 | C7: Computers | E7: silicon tech
C8: Core 1 | E8: flight-deck module | F8: 1 | G8: 2
A9: Power Summary | C9: Core 2 | E9: auxiliary control space | F9: 1 | G9: 2
A10: Req PWR | C10: Uprating | E10: n/a
A11: =SUM(F8,F10,F13,F16,F23,F27,F35,F38,F40) -> 20 | C11: Optical Data Network (ODN) | E11: fiberglass laser optics | G11: 12
A12: Opt PWR
A13: =SUM(F9,F33,F36,F39,F43,F47,F50,F53) -> 17 | C13: Navigational Deflector | E13: n/a
C15: Sensor Systems
C16: Long-Range Sensors | F16: 5 | G16: 1
D17: Range Package | E17: Mark 0 (92 / 83 / 42 / 8)
D18: High Resolution | E18: 1 ly (0.3 / 0.4-0.6 / 0.7-0.9 / 0.91-1.0)
D19: Low Resolution | E19: 3 lys (0.5 / 0.6-1.0 / 1.1-2.0 / 2.1-3.0)
D20: Gain package | E20: standard (+0)
D21: Strength package | E21: Class 1 (Strength +0 / +0 / +3 / +3)
D22: Coverage | E22: standard
C23: Lateral Sensors | F23: 5 | G23: 8
D24: Gain package | E24: standard (+0)
D25: Strength package | E25: Class 0 (Strength +0)
D26: Coverage | E26: standard
C27: Navigational Sensors | F27: 5 | G27: 8
D28: Gain package | E28: standard (+0)
D29: Strength package | E29: Class 0 (Strength +0)
C30: Probes
C32: Flight Control Systems
C33: Autopilot | E33: 35% (Rating: 1; Upgrade: 0); 3 lys auto-routing | F33: 1 | G33: 6
C34: Navigational Computer
D35: Main | E35: Class 1 (+0) | F35: 0 | G35: 1
D36: Backups | E36: 1 | F36: 0 | G36: 0
C37: Inertial Damping Field
D38: Main | E38: Strength: 3; Number: 1 | F38: 3 | G38: 8 | I38: early class: no min required number
D39: Backups | E39: Strength: 2; Number: 1 | F39: 2 | G39: 2
C40: Attitude Control | F40: 1 | G40: 1
C42: Communication Systems
C43: Interplanetary Radio (Type II) | F43: 2 | G43: 2
...

Sheet Tactical Systems (2)
A1: Tactical Systems
F2: PWR | G2: SU
A3: ='Overview (Flight II)'!B2 -> Liberty | C3: Weapon Control Rooms
A4: Vessel Size | C4: Laser Control Room | G4: 4
A5: ='Overview (Flight II)'!B5 -> 4 | C5: Missile Control Room | G5: 4
A6: Total SU
A7: =SUM(G4:G102) -> 93 | C7: Beam Weapons
C8: Bow Laser Mount #1 | E8: Sorac 1.2 Plus Class | F8: 2.5 | G8: 2
A9: Power Summary | E9: Range: 4 / 10,000 / 30,000 / 100,000
A10: Req PWR | E10: Damage: 24
E11: Targeting system: Class Zero | G11: 0
A12: Opt PWR | E12: Accuracy: 58 / 42 / 17 / -
A13: =SUM(F8,F16,F24,F32,F41,F49,F59,F67,F75,F83,F93) -> 40 | E13: Firing arc: forward-to-dorsal, up to 90 degrees | G13: 0
E14: Firing modes: Standard | G14: 0
C16: Bow Laser Mount #2 | E16: Sorac 1.2 Plus Class | F16: 2.5 | G16: 2
E17: Range: 4 / 10,000 / 30,000 / 100,000
E18: Damage: 24
E19: Targeting system: Class Zero | G19: 0
E20: Accuracy: 58 / 42 / 17 / -
E21: Firing arc: forward-to-port, out to 90 degrees | G21: 0
E22: Firing modes: Standard | G22: 0
C24: Bow Laser Mount #3 | E24: Sorac 1.2 Plus Class | F24: 2.5 | G24: 2
E25: Range: 4 / 10,000 / 30,000 / 100,000
E26: Damage: 24
E27: Targeting system: Class Zero | G27: 0
E28: Accuracy: 58 / 42 / 17 / -
E29: Firing arc: forward-to-ventral, down to 90 degrees | G29: 0
E30: Firing modes: Standard | G30: 0
C32: Bow Laser Mount #4 | E32: Sorac 1.2 Plus Class | F32: 2.5 | G32: 2
E33: Range: 4 / 10,000 / 30,000 / 100,000
E34: Damage: 24
E35: Targeting system: Class Zero | G35: 0
E36: Accuracy: 58 / 42 / 17 / -
E37: Firing arc: forward-to-starboard, out to 90 degrees | G37: 0
E38: Firing modes: Standard | G38: 0
C40: Missile Weapons
C41: Dorsal Microrocket Turret | F41: 5 | G41: 0.5
D42: Standard Load: | E42: kinetic-kill microrocket (50 Damage each)
D43: Spread: | E43: 5
D44: Range: | E44: 1 / 100 / 500 / 2000
...

Sheet Auxiliary Spacecraft System (2)
A1: Auxiliary Spacecraft Systems
G2: SU | H2: PWR
A3: ='Overview (Flight II)'!B2 -> Liberty | C3: Shuttlebays | G3: 6
A4: Vessel Size | C4: 3x boarding pods (Size 1)
A5: ='Overview (Flight II)'!B5 -> 4
A6: Total SU | C6: Captain's Yacht | E6: n/a
A7: =SUM(G3:G6) -> 6
A9: Power Summary
A10: Req PWR
A12: Opt PWR
