Workbook
Name ACSector: #REF!
Name Aldebaran: '067-21'!$A$5:$D$9
Name Aldebaran: '067-45'!$A$5:$D$9
Name Aldebaran: '076-19'!$A$5:$D$9
Name Aldebaran: '076-27'!$A$5:$D$9
Name Aldebaran: '076-31'!$A$5:$D$9
Name Aldebaran: '076-32'!$A$5:$D$9
Name Aldebaran: '076-36'!$A$5:$D$9
Name Aldebaran: '076-41'!$A$5:$D$9
Name Aldebaran: '076-46'!$A$5:$D$9
Name Aldebaran: '076-48'!$A$5:$D$9
Name Aldebaran: '085-02'!$A$5:$D$9
Name Aldebaran: '086-25'!$A$5:$D$9
Name Aldebaran: '976-98'!$A$5:$D$9
Name Aldebaran: '985-83'!$A$5:$D$9
Name AndorSector: #REF!
Name Arbazan: '067-21'!$A$5:$D$9
Name Arken: '976-98'!$A$5:$D$9
Name Brantik: '076-27'!$A$5:$D$9
Name Brantik: '076-31'!$A$5:$D$9
Name Brantik: '076-32'!$A$5:$D$9
Name Brantik: '076-41'!$A$5:$D$9
Name Brantik: '076-46'!$A$5:$D$9
Name Brantik: '076-36'!$A$5:$D$9
Name Deneva: '076-27'!$A$5:$D$9
Name Deneva: '076-31'!$A$5:$D$9
Name Deneva: '076-32'!$A$5:$D$9
Name Deneva: '076-36'!$A$5:$D$9
Name Deneva: '076-41'!$A$5:$D$9
Name Deneva: '076-46'!$A$5:$D$9
Name Deneva: '085-02'!$A$5:$D$9
Name Deneva: '086-25'!$A$5:$D$9
Name Deneva: '076-48'!$A$5:$D$9
Name EpsilonBootis: '067-21'!$A$5:$E$9
Name EpsilonBootis: '076-19'!$A$5:$E$9
Name EpsilonBootis: '076-27'!$A$5:$E$9
Name EpsilonBootis: '076-31'!$A$5:$E$9
Name EpsilonBootis: '076-32'!$A$5:$E$9
Name EpsilonBootis: '076-36'!$A$5:$E$9
Name EpsilonBootis: '076-41'!$A$5:$E$9
Name EpsilonBootis: '076-46'!$A$5:$E$9
Name EpsilonBootis: '076-48'!$A$5:$E$9
Name EpsilonBootis: '085-02'!$A$5:$E$9
Name EpsilonBootis: '086-25'!$A$5:$E$9
Name EpsilonBootis: '067-45'!$A$5:$E$9
Name Flarset: '086-25'!$A$5:$D$9
Name ImportantPlanets: 'Master Coords'!$A$6:$A$16
Name InfernaPrime: '076-27'!$A$5:$D$9
Name InfernaPrime: '076-31'!$A$5:$D$9
Name InfernaPrime: '076-32'!$A$5:$D$9
Name InfernaPrime: '076-36'!$A$5:$D$9
Name Ingraham: '076-27'!$A$5:$D$9
Name Ingraham: '076-31'!$A$5:$D$9
Name Ingraham: '076-32'!$A$5:$D$9
Name Ingraham: '076-36'!$A$5:$D$9
Name Ingraham: '076-41'!$A$5:$D$9
Name Ingraham: '076-46'!$A$5:$D$9
Name Ingraham: '076-48'!$A$5:$D$9
Name Ingraham: '085-02'!$A$5:$D$9
Name Ingraham: '086-25'!$A$5:$D$9

Sheet Distance Calcs
A1: Automatic | B1: Point Name | C1: X Coord | D1: Y Coord | E1: Z Coord | F1: Sector
A2: Point A | B2: Alpha Centauri | C2: =IF($B2="Name","",VLOOKUP($B2,'Master Coords'!$A:$F,2,FALSE)) -> 2.4 | D2: =IF($B2="Name","",VLOOKUP($B2,'Master Coords'!$A:$F,3,FALSE)) -> 2.5 | E2: =IF($B2="Name","",VLOOKUP($B2,'Master Coords'!$A:$F,4,FALSE)) -> -2.6 | F2: =IF($B2="Name","",VLOOKUP($B2,'Master Coords'!$A:$F,5,FALSE)) -> 002 (Alpha Centauri)
A3: Point B | B3: Sol | C3: =IF($B2="Name","",VLOOKUP($B3,'Master Coords'!$A:$F,2,FALSE)) -> 0 | D3: =IF($B2="Name","",VLOOKUP($B3,'Master Coords'!$A:$F,3,FALSE)) -> 0 | E3: =IF($B2="Name","",VLOOKUP($B3,'Master Coords'!$A:$F,4,FALSE)) -> 0 | F3: =IF($B2="Name","",VLOOKUP($B3,'Master Coords'!$A:$F,5,FALSE)) -> 001 (Sol)
A5: Distance | B5: =IF(OR(B2="Name",B3="Name"),"N/A",SQRT((C3-C2)^2+(D3-D2)^2+(E3-E2)^2)) -> 4.3324358
A8: Manual | C8: X Coord | D8: Y Coord | E8: Z Coord
A9: Point A | C9: 0 | D9: 0 | E9: 0
A10: Point B | C10: 17.5 | D10: 18.3 | E10: 11
A11: Distance | B11: =SQRT((C10-C9)^2+(D10-D9)^2+(E10-E9)^2) -> 27.606883

Sheet Master Coords
A1: Place the most important locations here, for quick identification on the Distance Calcs tab.
A2: Sector tabs will have each location within the sector.
A5: Name | B5: Origin-X | C5: Origin-Y | D5: Origin-Z | E5: Sector
A6: Alpha Centauri | B6: 2.4 | C6: 2.5 | D6: -2.6 | E6: 002 (Alpha Centauri)
A7: Andor | B7: 6 | C7: -10 | D7: 3 | E7: 006 (Andorian)
A8: Babel | B8: 4.5 | C8: 1.5 | D8: -15 | E8: 002 (Alpha Centauri)
A9: Draylax | B9: 3 | C9: 7 | D9: -15 | E9: 008 (Ophicus)
A10: Kaferia | B10: -0.5 | C10: -3.5 | D10: -5 | E10: 003 (Terra Nova)
A11: Ophicus | B11: 1 | C11: 19 | D11: 3 | E11: 008 (Ophicus)
A12: Sigma Draconis | B12: -17 | C12: -3.5 | D12: 9 | E12: 004 (Sigma Draconis)
A13: Sol | B13: 0 | C13: 0 | D13: 0 | E13: 001 (Sol)
A14: Tellar | B14: -11 | C14: 2 | D14: -2 | E14: 007 (Tellar)
A15: Terra Nova | B15: -16.5 | C15: -10.5 | D15: -11 | E15: 003 (Terra Nova)
A16: Vulcan | B16: 5 | C16: -12 | D16: -12 | E16: 005 (Vulcan)

Sheet Block
G1: Sector Grid & Block Guide
B2: 00 | C2: 01 | D2: 02 | E2: 03 | F2: 04 | I2: 50 | J2: 51 | K2: 52 | L2: 53 | M2: 54 | P2: Key | Q2: (See Star Trek: Star Charts, p 14-19)
B3: 05 | C3: 06 | D3: 07 | E3: 08 | F3: 09 | I3: 55 | J3: 56 | K3: 57 | L3: 58 | M3: 59 | P3: 1 | Q3: Subquadrants: circle the galaxy; designated 0-9 and then A-Z
A4: 1st level | B4: 10 | C4: 11 | D4: 12 | E4: 13 | F4: 14 | H4: 3rd level | I4: 60 | J4: 61 | K4: 62 | L4: 63 | M4: 64 | P4: 5 | Q4: Sector grids: divide a subquadrant into 10 sections, with 0 the innermost division.
B5: 15 | C5: 16 | D5: 17 | E5: 18 | F5: 19 | I5: 65 | J5: 66 | K5: 67 | L5: 68 | M5: 69 | P5: 02 | Q5: Sector quads: divide a sector grid into 100 blocks
B6: 20 | C6: 21 | D6: 22 | E6: 23 | F6: 24 | I6: 70 | J6: 71 | K6: 72 | L6: 73 | M6: 74 | P6: 076 | Q6: Sector block: divide a sector quad into 900 (or more) roughly cubical areas
P7: 12 | Q7: Sector: a perfect cube, 20 light-years on each side
B8: 25 | C8: 26 | D8: 27 | E8: 28 | F8: 29 | I8: 75 | J8: 76 | K8: 77 | L8: 78 | M8: 79 | Q8: Therefore, Sol Sector would be designated 15-02-076-12
B9: 30 | C9: 31 | D9: 32 | E9: 33 | F9: 34 | I9: 80 | J9: 81 | K9: 82 | L9: 83 | M9: 84
A10: 2nd level | B10: 35 | C10: 36 | D10: 37 | E10: 38 | F10: 39 | H10: 4th level | I10: 85 | J10: 86 | K10: 87 | L10: 88 | M10: 89
B11: 40 | C11: 41 | D11: 42 | E11: 43 | F11: 44 | I11: 90 | J11: 91 | K11: 92 | L11: 93 | M11: 94
B12: 45 | C12: 46 | D12: 47 | E12: 48 | F12: 49 | I12: 95 | J12: 96 | K12: 97 | L12: 98 | M12: 99

Sheet Sector Template
A1: Sector Name | B1: Sector Number | C1: Sector Designation
E2: A Sursha
A4: System Name | B4: Origin-X | C4: Origin-Y | D4: Origin-Z | E4: Distance | F4: Borders | H4: Instructions
H5: 1) Fill in all system names and coordinates (columns A-D).
H6: 2) Select entire data range (ex: A5-D9).
H7: 3) In name field (top-left field below "Clipboard"), provide a unique (to entire workbook) for the data range, such as NameSector. (Must be letters, not numerals.)
H8: 4) Select the green cell, then Data->Data Validation->Settings->Allow: List.
H9: 5) Click in the window's Source field, then select all the names under System Name. Select "OK."
H10: 6) From a previous tab, copy the top cell under Distance and paste the formula into the same cell here (i.e., Paste Fx).
H11: 7) In the formula, change any reference to the other tab's data field ("nameSector") to the one selected in #3 above. Enter.
H12: 8) Drag-copy the same formula down through the rest of the tan cells.
B14: Mini Map | H14: To add a new system, Formulas-> Name Manager. Select the name of the sector and add in the new range extreme to the Refers To field.
H15: Then follow step #4 above and add the same range to the green cell.
B16: Above
A17: Galactic Barrier | B17: Galactic Barrier | C17: Galactic Barrier
A18: Galactic Barrier | B18: Galactic Barrier | C18: Galactic Barrier
A19: Galactic Barrier | B19: Galactic Barrier | C19: Galactic Barrier
A21: 076-06 | B21: 076-07 | C21: 076-08
A22: 076-11 | B22: Sol | C22: Ophicus
A23: 076-16 | B23: Sigma Draconis | C23: Andorian
A25: 076-31 | B25: 076-32 | C25: 076-33
A26: 076-36 | B26: Tellar | C26: Alpha Centauri
A27: 076-41 | B27: Terra Nova | C27: Vulcan
B28: Below

Sheet 067-21
A1: Sector Name | B1: Sector Number | C1: Sector Designation
A2: Unnamed | B2: Undesignated | C2: 15-12-067-21 | E2: Arbazan
A4: System Name | B4: Origin-X | C4: Origin-Y | D4: Origin-Z | E4: Distance | F4: Borders | H4: Instructions
A5: Arbazan | B5: -21.3 | C5: 74.8 | D5: 9 | E5: =SQRT((VLOOKUP($E$2,Arbazan,2)-B5)^2+(VLOOKUP($E$2,Arbazan,3)-C5)^2+(VLOOKUP($E$2,Arbazan,4)-D5)^2) -> 0 | H5: 1) Fill in all system names and coordinates (columns A-D).
E6: =SQRT((VLOOKUP($E$2,Arbazan,2)-B6)^2+(VLOOKUP($E$2,Arbazan,3)-C6)^2+(VLOOKUP($E$2,Arbazan,4)-D6)^2) -> 78.292592 | H6: 2) Select entire data range (ex: A5-D9).
E7: =SQRT((VLOOKUP($E$2,Arbazan,2)-B7)^2+(VLOOKUP($E$2,Arbazan,3)-C7)^2+(VLOOKUP($E$2,Arbazan,4)-D7)^2) -> 78.292592 | H7: 3) In name field (top-left field below "Clipboard"), provide a unique (to entire workbook) for the data range, such as NameSector. (Must be letters, not numerals.)
E8: =SQRT((VLOOKUP($E$2,Arbazan,2)-B8)^2+(VLOOKUP($E$2,Arbazan,3)-C8)^2+(VLOOKUP($E$2,Arbazan,4)-D8)^2) -> 78.292592 | H8: 4) Select the green cell, then Data->Data Validation->Settings->Allow: List.
E9: =SQRT((VLOOKUP($E$2,Arbazan,2)-B9)^2+(VLOOKUP($E$2,Arbazan,3)-C9)^2+(VLOOKUP($E$2,Arbazan,4)-D9)^2) -> 78.292592 | H9: 5) Click in the window's Source field, then select all the names under System Name. Select "OK."
H10: 6) From a previous tab, copy the top cell under Distance and paste the formula into the same cell here (i.e., Paste Fx).
H11: 7) In the formula, change any reference to the other tab's data field ("nameSector") to the one selected in #3 above. Enter.
H12: 8) Drag-copy the same formula down through the rest of the tan cells.
B14: Mini Map | H14: To add a new system, Formulas-> Name Manager. Select the name of the sector and add in the new range extreme to the Refers To field.
H15: Then follow step #4 above and add the same range to the green cell.
B16: Above (Level 01)
A17: 967-90 | B17: 967-91 | C17: 967-92
A18: 967-95 | B18: 967-96 | C18: 967-97
A19: 976-75 | B19: 976-76 | C19: 976-77
A21: 067-15 | B21: 067-16 | C21: 067-17
A22: 067-20 | B22: 067-21 | C22: 067-22 | D22: Main
A23: 076-00 | B23: 076-01 | C23: 076-02
A25: 067-35 | B25: 067-36 | C25: 067-37
A26: 067-45 | B26: 067-46 | C26: 067-47
A27: 076-25 | B27: 076-26 | C27: 076-27
B28: Below (Sub 1)

Sheet 067-45
A1: Sector Name | B1: Sector Number | C1: Sector Designation
A2: Unnamed | B2: Undesignated | C2: 15-12-067-45 | E2: Epsilon Bootis
A4: System Name | B4: Origin-X | C4: Origin-Y | D4: Origin-Z | E4: Distance | F4: Borders | H4: Instructions
A5: Epsilon Bootis | B5: -56 | C5: 69.1 | D5: -9.1 | E5: =SQRT((VLOOKUP($E$2,EpsilonBootis,2)-B5)^2+(VLOOKUP($E$2,EpsilonBootis,3)-C5)^2+(VLOOKUP($E$2,EpsilonBootis,4)-D5)^2) -> 0 | H5: 1) Fill in all system names and coordinates (columns A-D).
E6: =SQRT((VLOOKUP($E$2,EpsilonBootis,2)-B6)^2+(VLOOKUP($E$2,EpsilonBootis,3)-C6)^2+(VLOOKUP($E$2,EpsilonBootis,4)-D6)^2) -> 89.407047 | H6: 2) Select entire data range (ex: A5-D9).
E7: =SQRT((VLOOKUP($E$2,EpsilonBootis,2)-B7)^2+(VLOOKUP($E$2,EpsilonBootis,3)-C7)^2+(VLOOKUP($E$2,EpsilonBootis,4)-D7)^2) -> 89.407047 | H7: 3) In name field (top-left field below "Clipboard"), provide a unique (to entire workbook) for the data range, such as NameSector. (Must be letters, not numerals.)
E8: =SQRT((VLOOKUP($E$2,EpsilonBootis,2)-B8)^2+(VLOOKUP($E$2,EpsilonBootis,3)-C8)^2+(VLOOKUP($E$2,EpsilonBootis,4)-D8)^2) -> 89.407047 | H8: 4) Select the green cell, then Data->Data Validation->Settings->Allow: List.
E9: =SQRT((VLOOKUP($E$2,EpsilonBootis,2)-B9)^2+(VLOOKUP($E$2,EpsilonBootis,3)-C9)^2+(VLOOKUP($E$2,EpsilonBootis,4)-D9)^2) -> 89.407047 | H9: 5) Click in the window's Source field, then select all the names under System Name. Select "OK."
H10: 6) From a previous tab, copy the top cell under Distance and paste the formula into the same cell here (i.e., Paste Fx).
H11: 7) In the formula, change any reference to the other tab's data field ("nameSector") to the one selected in #3 above. Enter.
H12: 8) Drag-copy the same formula down through the rest of the tan cells.
B14: Mini Map | H14: To add a new system, Formulas-> Name Manager. Select the name of the sector and add in the new range extreme to the Refers To field.
H15: Then follow step #4 above and add the same range to the green cell.
B16: Above (Main)
A17: 066-19 | B17: 067-15 | C17: 067-16
A18: 066-24 | B18: 067-20 | C18: 067-21
A19: 075-04 | B19: 076-00 | C19: 076-011
A21: 066-44 | B21: 067-35 | C21: 067-36
A22: 066-49 | B22: 067-45 | C22: 067-46 | D22: Sub 1
A23: 075-29 | B23: 076-25 | C23: 076-26
A25: 066-69 | B25: 067-65 | C25: 067-66
A26: 066-74 | B26: 067-70 | C26: 067-71
A27: 075-54 | B27: 076-50 | C27: 076-51
B28: Below (Sub 2)

Sheet 076-19
A1: Sector Name | B1: Sector Number | C1: Sector Designation
A2: Unnamed | B2: Undesignated | C2: 15-12-076-19 | E2: Ingraham
A4: System Name | B4: Origin-X | C4: Origin-Y | D4: Origin-Z | E4: Distance | F4: Borders | H4: Instructions
A5: Ingraham | B5: 26 | C5: -15.5 | D5: 13.8 | E5: =SQRT((VLOOKUP($E$2,EpsilonBootis,2)-B5)^2+(VLOOKUP($E$2,EpsilonBootis,3)-C5)^2+(VLOOKUP($E$2,EpsilonBootis,4)-D5)^2) -> 0 | H5: 1) Fill in all system names and coordinates (columns A-D).
E6: =SQRT((VLOOKUP($E$2,EpsilonBootis,2)-B6)^2+(VLOOKUP($E$2,EpsilonBootis,3)-C6)^2+(VLOOKUP($E$2,EpsilonBootis,4)-D6)^2) -> 33.266951 | H6: 2) Select entire data range (ex: A5-D9).
E7: =SQRT((VLOOKUP($E$2,EpsilonBootis,2)-B7)^2+(VLOOKUP($E$2,EpsilonBootis,3)-C7)^2+(VLOOKUP($E$2,EpsilonBootis,4)-D7)^2) -> 33.266951 | H7: 3) In name field (top-left field below "Clipboard"), provide a unique (to entire workbook) for the data range, such as NameSector. (Must be letters, not numerals.)
E8: =SQRT((VLOOKUP($E$2,EpsilonBootis,2)-B8)^2+(VLOOKUP($E$2,EpsilonBootis,3)-C8)^2+(VLOOKUP($E$2,EpsilonBootis,4)-D8)^2) -> 33.266951 | H8: 4) Select the green cell, then Data->Data Validation->Data Validation->Settings->Allow: List.
E9: =SQRT((VLOOKUP($E$2,EpsilonBootis,2)-B9)^2+(VLOOKUP($E$2,EpsilonBootis,3)-C9)^2+(VLOOKUP($E$2,EpsilonBootis,4)-D9)^2) -> 33.266951 | H9: 5) Click in the window's Source field, then select all the names under System Name. Select "OK."
H10: 6) From a previous tab, copy the top cell under Distance and paste the formula into the same cell here (i.e., Paste Fx).
H11: 7) In the formula, change any reference to the other tab's data field ("nameSector") to the one selected in #3 above. Enter.
H12: 8) Drag-copy the same formula down through the rest of the tan cells.
B14: Mini Map | H14: To add a new system, Formulas-> Name Manager. Select the name of the sector and add in the new range extreme to the Refers To field.
H15: Then follow step #4 above and add the same range to the green cell.
B16: Above (Level 01)
A17: 976-88 | B17: 976-89 | C17: 977-85
A18: 976-93 | B18: 976-94 | C18: 977-90
A19: 976-98 | B19: 976-99 | C19: 977-95
A21: Sector 008 | B21: 076-14 | C21: 077-10
A22: Sector 006 | B22: 076-19 | C22: 077-15 | D22: Main
A23: 076-23 | B23: 076-24 | C23: 077-20
A25: Sector 002 | B25: 076-39 | C25: 077-35
A26: Sector 005 | B26: 076-44 | C26: 077-40
A27: 076-48 | B27: 076-49 | C27: 077-45
B28: Below (Sub 1)

Sheet 076-27
A1: Sector Name | B1: Sector Number | C1: Sector Designation
A2: Unnamed | B2: Undesignated | C2: 15-37-076-27 | E2: Unukalhai
A4: System Name | B4: Origin-X | C4: Origin-Y | D4: Origin-Z | E4: Distance | F4: Borders | H4: Instructions
A5: Unukalhai | B5: -13.1 | C5: 50.3 | D5: -20 | E5: =SQRT((VLOOKUP($E$2,Unukalhai,2)-B5)^2+(VLOOKUP($E$2,Unukalhai,3)-C5)^2+(VLOOKUP($E$2,Unukalhai,4)-D5)^2) -> 0 | H5: 1) Fill in all system names and coordinates (columns A-D).
E6: =SQRT((VLOOKUP($E$2,Unukalhai,2)-B6)^2+(VLOOKUP($E$2,Unukalhai,3)-C6)^2+(VLOOKUP($E$2,Unukalhai,4)-D6)^2) -> 55.692908 | H6: 2) Select entire data range (ex: A5-D9).
E7: =SQRT((VLOOKUP($E$2,Unukalhai,2)-B7)^2+(VLOOKUP($E$2,Unukalhai,3)-C7)^2+(VLOOKUP($E$2,Unukalhai,4)-D7)^2) -> 55.692908 | H7: 3) In name field (top-left field below "Clipboard"), provide a unique (to entire workbook) for the data range, such as NameSector. (Must be letters, not numerals.)
E8: =SQRT((VLOOKUP($E$2,Unukalhai,2)-B8)^2+(VLOOKUP($E$2,Unukalhai,3)-C8)^2+(VLOOKUP($E$2,Unukalhai,4)-D8)^2) -> 55.692908 | H8: 4) Select the green cell, then Data->Data Validation->Data Validation->Settings->Allow: List.
E9: =SQRT((VLOOKUP($E$2,Unukalhai,2)-B9)^2+(VLOOKUP($E$2,Unukalhai,3)-C9)^2+(VLOOKUP($E$2,Unukalhai,4)-D9)^2) -> 55.692908 | H9: 5) Click in the window's Source field, then select all the names under System Name. Select "OK."
H10: 6) From a previous tab, copy the top cell under Distance and paste the formula into the same cell here (i.e., Paste Fx).
H11: 7) In the formula, change any reference to the other tab's data field ("nameSector") to the one selected in #3 above. Enter.
H12: 8) Drag-copy the same formula down through the rest of the tan cells.
B14: Mini Map | H14: To add a new system, Formulas-> Name Manager. Select the name of the sector and add in the new range extreme to the Refers To field.
H15: Then follow step #4 above and add the same range to the green cell.
B16: Above (Main)
A17: 067-21 | B17: 067-22 | C17: 067-23
A18: 076-01 | B18: 076-02 | C18: 076-03
A19: 076-06 | B19: 076-07 | C19: 076-08
A21: 067-46 | B21: 067-47 | C21: 067-48
A22: 076-26 | B22: 076-27 | C22: 076-28 | D22: Sub 1
A23: 076-31 | B23: 076-32 | C23: 076-33
A25: 067-71 | B25: 067-72 | C25: 067-73
A26: 076-51 | B26: 076-52 | C26: 076-53
A27: 076-56 | B27: 076-57 | C27: 076-58
B28: Below (Sub 2)

Sheet 076-31
A1: Sector Name | B1: Sector Number | C1: Sector Designation
A2: Unnamed | B2: Undesignated | C2: 15-37-076-31 | E2: Maeglin
A4: System Name | B4: Origin-X | C4: Origin-Y | D4: Origin-Z | E4: Distance | F4: Borders | H4: Instructions
A5: Sample | E5: =SQRT((VLOOKUP($E$2,Maeglin,2)-B5)^2+(VLOOKUP($E$2,Maeglin,3)-C5)^2+(VLOOKUP($E$2,Maeglin,4)-D5)^2) -> #N/A | H5: 1) Fill in all system names and coordinates (columns A-D).
E6: =SQRT((VLOOKUP($E$2,Maeglin,2)-B6)^2+(VLOOKUP($E$2,Maeglin,3)-C6)^2+(VLOOKUP($E$2,Maeglin,4)-D6)^2) -> #N/A | H6: 2) Select entire data range (ex: A5-D9).
E7: =SQRT((VLOOKUP($E$2,Maeglin,2)-B7)^2+(VLOOKUP($E$2,Maeglin,3)-C7)^2+(VLOOKUP($E$2,Maeglin,4)-D7)^2) -> #N/A | H7: 3) In name field (top-left field below "Clipboard"), provide a unique (to entire workbook) for the data range, such as NameSector. (Must be letters, not numerals.)
E8: =SQRT((VLOOKUP($E$2,Maeglin,2)-B8)^2+(VLOOKUP($E$2,Maeglin,3)-C8)^2+(VLOOKUP($E$2,Maeglin,4)-D8)^2) -> #N/A | H8: 4) Select the green cell, then Data->Data Validation->Data Validation->Settings->Allow: List.
E9: =SQRT((VLOOKUP($E$2,Maeglin,2)-B9)^2+(VLOOKUP($E$2,Maeglin,3)-C9)^2+(VLOOKUP($E$2,Maeglin,4)-D9)^2) -> #N/A | H9: 5) Click in the window's Source field, then select all the names under System Name. Select "OK."
H10: 6) From a previous tab, copy the top cell under Distance and paste the formula into the same cell here (i.e., Paste Fx).
H11: 7) In the formula, change any reference to the other tab's data field ("nameSector") to the one selected in #3 above. Enter.
H12: 8) Drag-copy the same formula down through the rest of the tan cells.
B14: Mini Map | H14: To add a new system, Formulas-> Name Manager. Select the name of the sector and add in the new range extreme to the Refers To field.
H15: Then follow step #4 above and add the same range to the green cell.
B16: Above (Main)
A17: 076-00 | B17: 076-01 | C17: 076-02
A18: 076-05 | B18: 076-06 | C18: 076-07
A19: 076-10 | B19: 076-11 | C19: Sector 001
A21: 076-25 | B21: 076-26 | C21: 076-27
A22: 076-30 | B22: 076-31 | C22: 076-32 | D22: Sub 1
A23: 076-35 | B23: 076-36 | C23: Sector 007
A25: 076-50 | B25: 076-51 | C25: 076-52
A26: 076-55 | B26: 076-56 | C26: 076-57
A27: 076-60 | B27: 076-61 | C27: 076-62
B28: Below (Sub 2)

Sheet 076-32
A1: Sector Name | B1: Sector Number | C1: Sector Designation
A2: Unnamed | B2: Undesignated | C2: 15-37-076-32 | E2: Xi Herculis
A4: System Name | B4: Origin-X | C4: Origin-Y | D4: Origin-Z | E4: Distance | F4: Borders | H4: Instructions
A5: Xi Herculis | B5: -11 | C5: 26 | D5: -3 | E5: =SQRT((VLOOKUP($E$2,XiHerculis,2)-B5)^2+(VLOOKUP($E$2,XiHerculis,3)-C5)^2+(VLOOKUP($E$2,XiHerculis,4)-D5)^2) -> 0 | H5: 1) Fill in all system names and coordinates (columns A-D).
E6: =SQRT((VLOOKUP($E$2,XiHerculis,2)-B6)^2+(VLOOKUP($E$2,XiHerculis,3)-C6)^2+(VLOOKUP($E$2,XiHerculis,4)-D6)^2) -> 28.390139 | H6: 2) Select entire data range (ex: A5-D9).
E7: =SQRT((VLOOKUP($E$2,XiHerculis,2)-B7)^2+(VLOOKUP($E$2,XiHerculis,3)-C7)^2+(VLOOKUP($E$2,XiHerculis,4)-D7)^2) -> 28.390139 | H7: 3) In name field (top-left field below "Clipboard"), provide a unique (to entire workbook) for the data range, such as NameSector. (Must be letters, not numerals.)
E8: =SQRT((VLOOKUP($E$2,XiHerculis,2)-B8)^2+(VLOOKUP($E$2,XiHerculis,3)-C8)^2+(VLOOKUP($E$2,XiHerculis,4)-D8)^2) -> 28.390139 | H8: 4) Select the green cell, then Data->Data Validation->Data Validation->Settings->Allow: List.
E9: =SQRT((VLOOKUP($E$2,XiHerculis,2)-B9)^2+(VLOOKUP($E$2,XiHerculis,3)-C9)^2+(VLOOKUP($E$2,XiHerculis,4)-D9)^2) -> 28.390139 | H9: 5) Click in the window's Source field, then select all the names under System Name. Select "OK."
H10: 6) From a previous tab, copy the top cell under Distance and paste the formula into the same cell here (i.e., Paste Fx).
H11: 7) In the formula, change any reference to the other tab's data field ("nameSector") to the one selected in #3 above. Enter.
H12: 8) Drag-copy the same formula down through the rest of the tan cells.
B14: Mini Map | H14: To add a new system, Formulas-> Name Manager. Select the name of the sector and add in the new range extreme to the Refers To field.
H15: Then follow step #4 above and add the same range to the green cell.
B16: Above (Main)
A17: 076-01 | B17: 076-02 | C17: 076-03
A18: 076-06 | B18: 076-07 | C18: 076-08
A19: 076-11 | B19: Sector 001 | C19: Sector 008
A21: 076-26 | B21: 076-27 | C21: 076-28
A22: 076-31 | B22: 076-32 | C22: 076-33 | D22: Sub 1
A23: 076-36 | B23: Sector 007 | C23: Sector 002
A25: 076-51 | B25: 076-52 | C25: 076-53
A26: 076-56 | B26: 076-57 | C26: 076-58
A27: 076-61 | B27: 076-62 | C27: 076-63
B28: Below (Sub 2)

Sheet 076-36
A1: Sector Name | B1: Sector Number | C1: Sector Designation
A2: Unnamed | B2: Undesignated | C2: 15-37-076-36 | E2: Inferna Prima
A4: System Name | B4: Origin-X | C4: Origin-Y | D4: Origin-Z | E4: Distance | F4: Borders | H4: Instructions
A5: Inferna Prima | B5: -25.5 | C5: 17 | D5: -17 | E5: =SQRT((VLOOKUP($E$2,Brantik,2)-B5)^2+(VLOOKUP($E$2,Brantik,3)-C5)^2+(VLOOKUP($E$2,Brantik,4)-D5)^2) -> 0 | H5: 1) Fill in all system names and coordinates (columns A-D).
E6: =SQRT((VLOOKUP($E$2,Brantik,2)-B6)^2+(VLOOKUP($E$2,Brantik,3)-C6)^2+(VLOOKUP($E$2,Brantik,4)-D6)^2) -> 35.046398 | H6: 2) Select entire data range (ex: A5-D9).
E7: =SQRT((VLOOKUP($E$2,Brantik,2)-B7)^2+(VLOOKUP($E$2,Brantik,3)-C7)^2+(VLOOKUP($E$2,Brantik,4)-D7)^2) -> 35.046398 | H7: 3) In name field (top-left field below "Clipboard"), provide a unique (to entire workbook) for the data range, such as NameSector. (Must be letters, not numerals.)
E8: =SQRT((VLOOKUP($E$2,Brantik,2)-B8)^2+(VLOOKUP($E$2,Brantik,3)-C8)^2+(VLOOKUP($E$2,Brantik,4)-D8)^2) -> 35.046398 | H8: 4) Select the green cell, then Data->Data Validation->Data Validation->Settings->Allow: List.
E9: =SQRT((VLOOKUP($E$2,Brantik,2)-B9)^2+(VLOOKUP($E$2,Brantik,3)-C9)^2+(VLOOKUP($E$2,Brantik,4)-D9)^2) -> 35.046398 | H9: 5) Click in the window's Source field, then select all the names under System Name. Select "OK."
H10: 6) From a previous tab, copy the top cell under Distance and paste the formula into the same cell here (i.e., Paste Fx).
H11: 7) In the formula, change any reference to the other tab's data field ("nameSector") to the one selected in #3 above. Enter.
H12: 8) Drag-copy the same formula down through the rest of the tan cells.
B14: Mini Map | H14: To add a new system, Formulas-> Name Manager. Select the name of the sector and add in the new range extreme to the Refers To field.
H15: Then follow step #4 above and add the same range to the green cell.
B16: Above (Main)
A17: 076-05 | B17: 076-06 | C17: 076-07
A18: 076-10 | B18: 076-11 | C18: Sector 001
A19: 076-15 | B19: 076-16 | C19: Sector 004
A21: 076-30 | B21: 076-31 | C21: 076-32
A22: 076-35 | B22: 076-36 | C22: Sector 007 | D22: Sub 1
A23: 076-40 | B23: 076-41 | C23: Sector 003
A25: 076-55 | B25: 076-56 | C25: 076-57
A26: 076-60 | B26: 076-61 | C26: 076-62
A27: 076-65 | B27: 076-66 | C27: 076-67
B28: Below (Sub 2)

Sheet 076-41
A1: Sector Name | B1: Sector Number | C1: Sector Designation
A2: Unnamed | B2: Undesignated | C2: 15-37-076-41 | E2: Deneva
A4: System Name | B4: Origin-X | C4: Origin-Y | D4: Origin-Z | E4: Distance | F4: Borders | H4: Instructions
A5: Brantik | B5: -27 | C5: -1.6 | D5: -12 | E5: =SQRT((VLOOKUP($E$2,Brantik,2)-B5)^2+(VLOOKUP($E$2,Brantik,3)-C5)^2+(VLOOKUP($E$2,Brantik,4)-D5)^2) -> 0 | H5: 1) Fill in all system names and coordinates (columns A-D).
E6: =SQRT((VLOOKUP($E$2,Brantik,2)-B6)^2+(VLOOKUP($E$2,Brantik,3)-C6)^2+(VLOOKUP($E$2,Brantik,4)-D6)^2) -> 29.589863 | H6: 2) Select entire data range (ex: A5-D9).
E7: =SQRT((VLOOKUP($E$2,Brantik,2)-B7)^2+(VLOOKUP($E$2,Brantik,3)-C7)^2+(VLOOKUP($E$2,Brantik,4)-D7)^2) -> 29.589863 | H7: 3) In name field (top-left field below "Clipboard"), provide a unique (to entire workbook) for the data range, such as NameSector. (Must be letters, not numerals.)
E8: =SQRT((VLOOKUP($E$2,Brantik,2)-B8)^2+(VLOOKUP($E$2,Brantik,3)-C8)^2+(VLOOKUP($E$2,Brantik,4)-D8)^2) -> 29.589863 | H8: 4) Select the green cell, then Data->Data Validation->Data Validation->Settings->Allow: List.
E9: =SQRT((VLOOKUP($E$2,Brantik,2)-B9)^2+(VLOOKUP($E$2,Brantik,3)-C9)^2+(VLOOKUP($E$2,Brantik,4)-D9)^2) -> 29.589863 | H9: 5) Click in the window's Source field, then select all the names under System Name. Select "OK."
H10: 6) From a previous tab, copy the top cell under Distance and paste the formula into the same cell here (i.e., Paste Fx).
H11: 7) In the formula, change any reference to the other tab's data field ("nameSector") to the one selected in #3 above. Enter.
H12: 8) Drag-copy the same formula down through the rest of the tan cells.
B14: Mini Map | H14: To add a new system, Formulas-> Name Manager. Select the name of the sector and add in the new range extreme to the Refers To field.
H15: Then follow step #4 above and add the same range to the green cell.
B16: Above (Main)
A17: 076-10 | B17: 076-11 | C17: Sector 001
A18: 076-15 | B18: 076-16 | C18: Sector 004
A19: 076-20 | B19: 076-21 | C19: 076-22
A21: 076-65 | B21: 076-36 | C21: Sector 007
A22: 076-40 | B22: 076-41 | C22: Sector 003 | D22: Sub 1
A23: 076-45 | B23: 076-46 | C23: 076-47
A25: 076-60 | B25: 076-61 | C25: 076-62
A26: 076-65 | B26: 076-66 | C26: 076-67
A27: 076-70 | B27: 076-71 | C27: 076-72
B28: Below (Sub 2)

Sheet 076-46
A1: Sector Name | B1: Sector Number | C1: Sector Designation
A2: Kalandra | B2: Undesignated | C2: 15-37-076-46 | E2: Merak
A4: System Name | B4: Origin-X | C4: Origin-Y | D4: Origin-Z | E4: Distance | F4: Borders | H4: Instructions
A5: Merak | B5: -23.6 | C5: -39 | D5: -15 | E5: =SQRT((VLOOKUP($E$2,Kalandra,2)-B5)^2+(VLOOKUP($E$2,Kalandra,3)-C5)^2+(VLOOKUP($E$2,Kalandra,4)-D5)^2) -> 0 | H5: 1) Fill in all system names and coordinates (columns A-D).
E6: =SQRT((VLOOKUP($E$2,Kalandra,2)-B6)^2+(VLOOKUP($E$2,Kalandra,3)-C6)^2+(VLOOKUP($E$2,Kalandra,4)-D6)^2) -> 47.989165 | H6: 2) Select entire data range (ex: A5-D9).
E7: =SQRT((VLOOKUP($E$2,Kalandra,2)-B7)^2+(VLOOKUP($E$2,Kalandra,3)-C7)^2+(VLOOKUP($E$2,Kalandra,4)-D7)^2) -> 47.989165 | H7: 3) In name field (top-left field below "Clipboard"), provide a unique (to entire workbook) for the data range, such as NameSector. (Must be letters, not numerals.)
E8: =SQRT((VLOOKUP($E$2,Kalandra,2)-B8)^2+(VLOOKUP($E$2,Kalandra,3)-C8)^2+(VLOOKUP($E$2,Kalandra,4)-D8)^2) -> 47.989165 | H8: 4) Select the green cell, then Data->Data Validation->Data Validation->Settings->Allow: List.
E9: =SQRT((VLOOKUP($E$2,Kalandra,2)-B9)^2+(VLOOKUP($E$2,Kalandra,3)-C9)^2+(VLOOKUP($E$2,Kalandra,4)-D9)^2) -> 47.989165 | H9: 5) Click in the window's Source field, then select all the names under System Name. Select "OK."
H10: 6) From a previous tab, copy the top cell under Distance and paste the formula into the same cell here (i.e., Paste Fx).
H11: 7) In the formula, change any reference to the other tab's data field ("nameSector") to the one selected in #3 above. Enter.
H12: 8) Drag-copy the same formula down through the rest of the tan cells.
B14: Mini Map | H14: To add a new system, Formulas-> Name Manager. Select the name of the sector and add in the new range extreme to the Refers To field.
H15: Then follow step #4 above and add the same range to the green cell.
B16: Above (Main)
A17: 076-15 | B17: 076-16 | C17: Sector 004
A18: 076-20 | B18: 076-21 | C18: 076-22
A19: 085-00 | B19: 085-01 | C19: 085-02
A21: 076-40 | B21: 076-41 | C21: Sector 003
A22: 076-45 | B22: 076-46 | C22: 076-47 | D22: Sub 1
A23: 085-25 | B23: 085-26 | C23: 085-27
A25: 076-65 | B25: 076-66 | C25: 076-67
A26: 076-70 | B26: 076-71 | C26: 076-72
A27: 085-50 | B27: 085-51 | C27: 085-52
B28: Below (Sub 2)

Sheet 076-48
A1: Sector Name | B1: Sector Number | C1: Sector Designation
A2: Unnamed | B2: Undesignated | C2: 15-37-076-48 | E2: Deneva
A4: System Name | B4: Origin-X | C4: Origin-Y | D4: Origin-Z | E4: Distance | F4: Borders | H4: Instructions
A5: Deneva | B5: 12.4 | C5: -21.4 | D5: -7.6 | E5: =SQRT((VLOOKUP($E$2,Deneva,2)-B5)^2+(VLOOKUP($E$2,Deneva,3)-C5)^2+(VLOOKUP($E$2,Deneva,4)-D5)^2) -> 0 | H5: 1) Fill in all system names and coordinates (columns A-D).
E6: =SQRT((VLOOKUP($E$2,Deneva,2)-B6)^2+(VLOOKUP($E$2,Deneva,3)-C6)^2+(VLOOKUP($E$2,Deneva,4)-D6)^2) -> 25.874312 | H6: 2) Select entire data range (ex: A5-D9).
E7: =SQRT((VLOOKUP($E$2,Deneva,2)-B7)^2+(VLOOKUP($E$2,Deneva,3)-C7)^2+(VLOOKUP($E$2,Deneva,4)-D7)^2) -> 25.874312 | H7: 3) In name field (top-left field below "Clipboard"), provide a unique (to entire workbook) for the data range, such as NameSector. (Must be letters, not numerals.)
E8: =SQRT((VLOOKUP($E$2,Deneva,2)-B8)^2+(VLOOKUP($E$2,Deneva,3)-C8)^2+(VLOOKUP($E$2,Deneva,4)-D8)^2) -> 25.874312 | H8: 4) Select the green cell, then Data->Data Validation->Data Validation->Settings->Allow: List.
E9: =SQRT((VLOOKUP($E$2,Deneva,2)-B9)^2+(VLOOKUP($E$2,Deneva,3)-C9)^2+(VLOOKUP($E$2,Deneva,4)-D9)^2) -> 25.874312 | H9: 5) Click in the window's Source field, then select all the names under System Name. Select "OK."
H10: 6) From a previous tab, copy the top cell under Distance and paste the formula into the same cell here (i.e., Paste Fx).
H11: 7) In the formula, change any reference to the other tab's data field ("nameSector") to the one selected in #3 above. Enter.
H12: 8) Drag-copy the same formula down through the rest of the tan cells.
B14: Mini Map | H14: To add a new system, Formulas-> Name Manager. Select the name of the sector and add in the new range extreme to the Refers To field.
H15: Then follow step #4 above and add the same range to the green cell.
B16: Above (Main)
A17: Sector 004 | B17: Sector 006 | C17: 076-19
A18: 076-22 | B18: 076-23 | C18: 076-24
A19: 085-02 | B19: 085-03 | C19: 085-04
A21: Sector 003 | B21: Sector 005 | C21: 076-44
A22: 076-47 | B22: 076-48 | C22: 076-49 | D22: Sub 1
A23: 085-27 | B23: 085-28 | C23: 085-29
A25: 085-52 | B25: 076-68 | C25: 076-69
A26: 085-57 | B26: 076-73 | C26: 076-74
A27: 085-62 | B27: 085-53 | C27: 085-54
B28: Below (Sub 2)

Sheet 085-02
A1: Sector Name | B1: Sector Number | C1: Sector Designation
A2: Unnamed | B2: Undesignated | C2: 15-37-085-02 | E2: Vynolk
A4: System Name | B4: Origin-X | C4: Origin-Y | D4: Origin-Z | E4: Distance | F4: Borders | H4: Instructions
A5: Vynolk | B5: -44 | C5: -7 | D5: 12 | E5: =SQRT((VLOOKUP($E$2,Vynolk,2)-B5)^2+(VLOOKUP($E$2,Vynolk,3)-C5)^2+(VLOOKUP($E$2,Vynolk,4)-D5)^2) -> 0 | H5: 1) Fill in all system names and coordinates (columns A-D).
E6: =SQRT((VLOOKUP($E$2,Vynolk,2)-B6)^2+(VLOOKUP($E$2,Vynolk,3)-C6)^2+(VLOOKUP($E$2,Vynolk,4)-D6)^2) -> 46.141088 | H6: 2) Select entire data range (ex: A5-D9).
E7: =SQRT((VLOOKUP($E$2,Vynolk,2)-B7)^2+(VLOOKUP($E$2,Vynolk,3)-C7)^2+(VLOOKUP($E$2,Vynolk,4)-D7)^2) -> 46.141088 | H7: 3) In name field (top-left field below "Clipboard"), provide a unique (to entire workbook) for the data range, such as NameSector. (Must be letters, not numerals.)
E8: =SQRT((VLOOKUP($E$2,Vynolk,2)-B8)^2+(VLOOKUP($E$2,Vynolk,3)-C8)^2+(VLOOKUP($E$2,Vynolk,4)-D8)^2) -> 46.141088 | H8: 4) Select the green cell, then Data->Data Validation->Data Validation->Settings->Allow: List.
E9: =SQRT((VLOOKUP($E$2,Vynolk,2)-B9)^2+(VLOOKUP($E$2,Vynolk,3)-C9)^2+(VLOOKUP($E$2,Vynolk,4)-D9)^2) -> 46.141088 | H9: 5) Click in the window's Source field, then select all the names under System Name. Select "OK."
H10: 6) From a previous tab, copy the top cell under Distance and paste the formula into the same cell here (i.e., Paste Fx).
H11: 7) In the formula, change any reference to the other tab's data field ("nameSector") to the one selected in #3 above. Enter.
H12: 8) Drag-copy the same formula down through the rest of the tan cells.
B14: Mini Map | H14: To add a new system, Formulas-> Name Manager. Select the name of the sector and add in the new range extreme to the Refers To field.
H15: Then follow step #4 above and add the same range to the green cell.
B16: Above (Level 01)
A17: 976-96 | B17: 976-97 | C17: 976-98
A18: 985-76 | B18: 985-77 | C18: 985-78
A19: 985-81 | B19: 985-82 | C19: 985-83
A21: 076-21 | B21: 076-22 | C21: 076-23
A22: 085-01 | B22: 085-02 | C22: 085-03 | D22: Main
A23: 085-06 | B23: 085-07 | C23: 085-08
A25: 076-46 | B25: 076-47 | C25: 076-48
A26: 085-26 | B26: 085-27 | C26: 085-28
A27: 085-31 | B27: 085-32 | C27: 085-33
B28: Below (Sub 1)

Sheet 086-25
A1: Sector Name | B1: Sector Number | C1: Sector Designation
A2: Unnamed | B2: Undesignated | C2: 15-37-086-25 | E2: Flarset
A4: System Name | B4: Origin-X | C4: Origin-Y | D4: Origin-Z | E4: Distance | F4: Borders | H4: Instructions
A5: Flarset | B5: 40.9 | C5: -49 | D5: -18 | E5: =SQRT((VLOOKUP($E$2,Flarset,2)-B5)^2+(VLOOKUP($E$2,Flarset,3)-C5)^2+(VLOOKUP($E$2,Flarset,4)-D5)^2) -> 0 | H5: 1) Fill in all system names and coordinates (columns A-D).
E6: =SQRT((VLOOKUP($E$2,Flarset,2)-B6)^2+(VLOOKUP($E$2,Flarset,3)-C6)^2+(VLOOKUP($E$2,Flarset,4)-D6)^2) -> 66.315986 | H6: 2) Select entire data range (ex: A5-D9).
E7: =SQRT((VLOOKUP($E$2,Flarset,2)-B7)^2+(VLOOKUP($E$2,Flarset,3)-C7)^2+(VLOOKUP($E$2,Flarset,4)-D7)^2) -> 66.315986 | H7: 3) In name field (top-left field below "Clipboard"), provide a unique (to entire workbook) for the data range, such as NameSector. (Must be letters, not numerals.)
E8: =SQRT((VLOOKUP($E$2,Flarset,2)-B8)^2+(VLOOKUP($E$2,Flarset,3)-C8)^2+(VLOOKUP($E$2,Flarset,4)-D8)^2) -> 66.315986 | H8: 4) Select the green cell, then Data->Data Validation->Data Validation->Settings->Allow: List.
E9: =SQRT((VLOOKUP($E$2,Flarset,2)-B9)^2+(VLOOKUP($E$2,Flarset,3)-C9)^2+(VLOOKUP($E$2,Flarset,4)-D9)^2) -> 66.315986 | H9: 5) Click in the window's Source field, then select all the names under System Name. Select "OK."
H10: 6) From a previous tab, copy the top cell under Distance and paste the formula into the same cell here (i.e., Paste Fx).
H11: 7) In the formula, change any reference to the other tab's data field ("nameSector") to the one selected in #3 above. Enter.
H12: 8) Drag-copy the same formula down through the rest of the tan cells.
B14: Mini Map | H14: To add a new system, Formulas-> Name Manager. Select the name of the sector and add in the new range extreme to the Refers To field.
H15: Then follow step #4 above and add the same range to the green cell.
B16: Above (Main)
A17: 076-24 | B17: 077-20 | C17: 077-21
A18: 085-04 | B18: 086-00 | C18: 086-01
A19: 085-09 | B19: 086-05 | C19: 086-06
A21: 076-49 | B21: 077-45 | C21: 077-46
A22: 085-29 | B22: 086-25 | C22: 086-26 | D22: Sub 1
A23: 085-34 | B23: 086-30 | C23: 086-31
A25: 076-74 | B25: 077-70 | C25: 077-71
A26: 085-54 | B26: 086-50 | C26: 086-51
A27: 085-59 | B27: 086-55 | C27: 086-56
B28: Below (Sub 2)

Sheet 976-98
A1: Sector Name | B1: Sector Number | C1: Sector Designation
A2: Unnamed | B2: Undesignated | C2: 15-12-976-98 | E2: Arken
A4: System Name | B4: Origin-X | C4: Origin-Y | D4: Origin-Z | E4: Distance | F4: Borders | H4: Instructions
A5: Arken | B5: 2 | C5: -32 | D5: 31 | E5: =SQRT((VLOOKUP($E$2,Arken,2)-B5)^2+(VLOOKUP($E$2,Arken,3)-C5)^2+(VLOOKUP($E$2,Arken,4)-D5)^2) -> 0 | H5: 1) Fill in all system names and coordinates (columns A-D).
E6: =SQRT((VLOOKUP($E$2,Arken,2)-B6)^2+(VLOOKUP($E$2,Arken,3)-C6)^2+(VLOOKUP($E$2,Arken,4)-D6)^2) -> 44.598206 | H6: 2) Select entire data range (ex: A5-D9).
E7: =SQRT((VLOOKUP($E$2,Arken,2)-B7)^2+(VLOOKUP($E$2,Arken,3)-C7)^2+(VLOOKUP($E$2,Arken,4)-D7)^2) -> 44.598206 | H7: 3) In name field (top-left field below "Clipboard"), provide a unique (to entire workbook) for the data range, such as NameSector. (Must be letters, not numerals.)
E8: =SQRT((VLOOKUP($E$2,Arken,2)-B8)^2+(VLOOKUP($E$2,Arken,3)-C8)^2+(VLOOKUP($E$2,Arken,4)-D8)^2) -> 44.598206 | H8: 4) Select the green cell, then Data->Data Validation->Settings->Allow: List.
E9: =SQRT((VLOOKUP($E$2,Arken,2)-B9)^2+(VLOOKUP($E$2,Arken,3)-C9)^2+(VLOOKUP($E$2,Arken,4)-D9)^2) -> 44.598206 | H9: 5) Click in the window's Source field, then select all the names under System Name. Select "OK."
H10: 6) From a previous tab, copy the top cell under Distance and paste the formula into the same cell here (i.e., Paste Fx).
H11: 7) In the formula, change any reference to the other tab's data field ("nameSector") to the one selected in #3 above. Enter.
H12: 8) Drag-copy the same formula down through the rest of the tan cells.
B14: Mini Map | H14: To add a new system, Formulas-> Name Manager. Select the name of the sector and add in the new range extreme to the Refers To field.
H15: Then follow step #4 above and add the same range to the green cell.
B16: Above (Level 02)
A17: 976-67 | B17: 976-68 | C17: 976-69
A18: 976-72 | B18: 976-73 | C18: 976-74
A19: 985-52 | B19: 985-53 | C19: 985-54
A21: 976-92 | B21: 976-93 | C21: 976-94
A22: 976-97 | B22: 976-98 | C22: 976-99 | D22: Level 01
A23: 985-77 | B23: 985-78 | C23: 985-79
A25: Sector 004 | B25: Sector 006 | C25: 076-19
A26: 076-22 | B26: 076-23 | C26: 076-24
A27: 085-02 | B27: 085-03 | C27: 085-04
B28: Below (Main)

Sheet 985-83
A1: Sector Name | B1: Sector Number | C1: Sector Designation
A2: Unnamed | B2: Undesignated | C2: 15-12-985-83 | E2: Ingraham
A4: System Name | B4: Origin-X | C4: Origin-Y | D4: Origin-Z | E4: Distance | F4: Borders | H4: Instructions
A5: Ingraham | B5: 2.2 | C5: -62.2 | D5: 36 | E5: =SQRT((VLOOKUP($E$2,Aldebaran,2)-B5)^2+(VLOOKUP($E$2,Aldebaran,3)-C5)^2+(VLOOKUP($E$2,Aldebaran,4)-D5)^2) -> 0 | H5: 1) Fill in all system names and coordinates (columns A-D).
E6: =SQRT((VLOOKUP($E$2,Ingraham,2)-B6)^2+(VLOOKUP($E$2,Ingraham,3)-C6)^2+(VLOOKUP($E$2,Ingraham,4)-D6)^2) -> 33.266951 | H6: 2) Select entire data range (ex: A5-D9).
E7: =SQRT((VLOOKUP($E$2,Ingraham,2)-B7)^2+(VLOOKUP($E$2,Ingraham,3)-C7)^2+(VLOOKUP($E$2,Ingraham,4)-D7)^2) -> 33.266951 | H7: 3) In name field (top-left field below "Clipboard"), provide a unique (to entire workbook) for the data range, such as NameSector. (Must be letters, not numerals.)
E8: =SQRT((VLOOKUP($E$2,Ingraham,2)-B8)^2+(VLOOKUP($E$2,Ingraham,3)-C8)^2+(VLOOKUP($E$2,Ingraham,4)-D8)^2) -> 33.266951 | H8: 4) Select the green cell, then Data->Data Validation->Settings->Allow: List.
E9: =SQRT((VLOOKUP($E$2,Ingraham,2)-B9)^2+(VLOOKUP($E$2,Ingraham,3)-C9)^2+(VLOOKUP($E$2,Ingraham,4)-D9)^2) -> 33.266951 | H9: 5) Click in the window's Source field, then select all the names under System Name. Select "OK."
H10: 6) From a previous tab, copy the top cell under Distance and paste the formula into the same cell here (i.e., Paste Fx).
H11: 7) In the formula, change any reference to the other tab's data field ("nameSector") to the one selected in #3 above. Enter.
H12: 8) Drag-copy the same formula down through the rest of the tan cells.
B14: Mini Map | H14: To add a new system, Formulas-> Name Manager. Select the name of the sector and add in the new range extreme to the Refers To field.
H15: Then follow step #4 above and add the same range to the green cell.
B16: Above (Level 02)
A17: 985-52 | B17: 985-53 | C17: 985-54
A18: 985-57 | B18: 985-58 | C18: 985-59
A19: 985-62 | B19: 985-63 | C19: 985-64
A21: 985-77 | B21: 985-78 | C21: 985-79
A22: 985-82 | B22: 985-83 | C22: 985-84 | D22: Level 01
A23: 985-87 | B23: 985-88 | C23: 985-89
A25: 085-02 | B25: 085-03 | C25: 085-04
A26: 085-07 | B26: 085-08 | C26: 085-09
A27: 085-12 | B27: 085-13 | C27: 085-14
B28: Below (Main)
